Workbook

Sheet Tiến độ thanh toán
A1: Tính giá căn hộ, các ưu đãi & dự tính số tiền thanh toán các Đợt
B2: TT căn hộ diện tích | C2: 60 | D2: Thành tiền
B3: Đơn giá căn hộ | C3: 50000000 | D3: =C2*C3 -> 3000000000
B4: Chiết khấu | D4: =D3*C4 -> 0
B5: Giá sau chiết khầu | D5: =D3-D4 -> 3000000000
B6: Tỷ lệ vay | C6: 0.75 | D6: =D3*75% -> 2250000000
B8: Đợt thanh toán | C8: Thời gian | D8: Số tiền/Tỉ lệ thanh toán | E8: Số tiền thanh toán | F8: Phí bảo trì 2% | G8: TPB giải ngân | H8: Khách hàng nộp
B9: Đặt cọc | C9: Đặt cọc: 100 triệu: 1PN; 1PN +; 2PN; 2PN+ 200 triệu căn 3PN 300 triệu căn 3PN+ | E9: 100000000 | H9: =E9 -> 100000000
B10: Đợt 1 | C10: Ngay khi ký HĐMB, trong vòng 7 ngày kể từ ngày giữ chỗ | D10: 0.3 | E10: =D10*$D$5-E9 -> 800000000 | G10: =(E10+E9)*C6 -> 675000000 | H10: =E10-G10 -> 125000000
B11: Đợt 2 | C11: Thanh toán 10% khi hoàn thành tầng 10 | D11: 0.1 | E11: =D11*$D$5 -> 300000000 | G11: =E11*$C$6 -> 225000000 | H11: =E11-G11 -> 75000000
B12: Đợt 3 | C12: Thanh toán 10% khi hoàn thành tầng 15 | D12: 0.1 | E12: =D12*$D$5 -> 300000000 | G12: =E12*$C$6 -> 225000000 | H12: =E12-G12 -> 75000000
B13: Đợt 4 | C13: Thanh toán 10% khi hoàn thành tầng 20 | D13: 0.1 | E13: =D13*$D$5 -> 300000000 | G13: =E13*$C$6 -> 225000000 | H13: =E13-G13 -> 75000000
B14: Đợt 5 | C14: Thanh toán 10% khi cất nóc | D14: 0.1 | E14: =D14*$D$5 -> 300000000 | G14: =E14*$C$6 -> 225000000 | H14: =E14-G14 -> 75000000
B15: Đợt 6 | C15: Thanh toán 25% trong vòng 7 ngày kể từ ngày nhận bàn giao căn hộ | D15: 0.25 | E15: =D15*$D$5 -> 750000000 | F15: chưa tính phí bảo trì | G15: =E15*$C$6 -> 562500000 | H15: =E15-G15 -> 187500000
B16: Đợt 7 | C16: Thanh toán 5% khi có thông báo nhận GCN | D16: 0.05 | E16: =D16*$D$5 -> 150000000 | G16: =E16*$C$6 -> 112500000 | H16: =E16-G16 -> 37500000
D17: Tổng thanh toán | E17: =SUM(E9:E16) -> 3000000000 | G17: =SUM(G10:G16) -> 2250000000 | H17: =SUM(H9:H16) -> 750000000

Sheet TPB 35 năm
A1: THỜI GIAN VAY | B1: 420 | C1: THÁNG
A2: SỐ TIỀN VAY | B2: ='[1]Tiến độ giải ngân'!G17 -> 2250000000 | C2: VND
A3: LÃI SUẤT KỲ ĐẦU | B3: 0.055
A4: THỜI GIAN ƯU ĐÃI | B4: 36 | C4: tháng
A5: LÃI SUẤT ĐIỀU CHỈNH | B5: 0.108
A6: THỜI GIAN ÂN HẠN GỐC | B6: 36 | C6: tháng
A7: Số kỳ | B7: Gốc giảm dần | C7: Tiền gốc tháng | D7: Tiền lãi tháng | E7: Tiền gốc+ lãi
A8: 1 | B8: ='[1]Tiến độ giải ngân'!G10 -> 675000000 | C8: 0 | D8: =IF(A8<=$B$4,B8*$B$3/12,B8*$B$5/12) -> 3093750 | E8: =SUM(C8+D8) -> 3093750 | F8: GN đầu tiên
A9: 2 | B9: =B8-C8 -> 675000000 | C9: 0 | D9: =IF(A9<=$B$4,B9*$B$3/12,B9*$B$5/12) -> 3093750 | E9: =SUM(C9+D9) -> 3093750
A10: 3 | B10: =B9-C9 -> 675000000 | C10: 0 | D10: =IF(A10<=$B$4,B10*$B$3/12,B10*$B$5/12) -> 3093750 | E10: =SUM(C10+D10) -> 3093750
A11: 4 | B11: =B10-C10 -> 675000000 | C11: 0 | D11: =IF(A11<=$B$4,B11*$B$3/12,B11*$B$5/12) -> 3093750 | E11: =SUM(C11+D11) -> 3093750
A12: 5 | B12: =B11-C11 -> 675000000 | C12: 0 | D12: =IF(A12<=$B$4,B12*$B$3/12,B12*$B$5/12) -> 3093750 | E12: =SUM(C12+D12) -> 3093750
A13: 6 | B13: =B12-C12+'Tiến độ thanh toán'!G11 -> 900000000 | C13: 0 | D13: =IF(A13<=$B$4,B13*$B$3/12,B13*$B$5/12) -> 4125000 | E13: =SUM(C13+D13) -> 4125000 | F13: GN đợt 2 10%
A14: 7 | B14: =B13-C13 -> 900000000 | C14: 0 | D14: =IF(A14<=$B$4,B14*$B$3/12,B14*$B$5/12) -> 4125000 | E14: =SUM(C14+D14) -> 4125000
A15: 8 | B15: =B14-C14+'Tiến độ thanh toán'!G12 -> 1125000000 | C15: 0 | D15: =IF(A15<=$B$4,B15*$B$3/12,B15*$B$5/12) -> 5156250 | E15: =SUM(C15+D15) -> 5156250 | F15: GN đợt 3 10%
A16: 9 | B16: =B15-C15 -> 1125000000 | C16: 0 | D16: =IF(A16<=$B$4,B16*$B$3/12,B16*$B$5/12) -> 5156250 | E16: =SUM(C16+D16) -> 5156250
A17: 10 | B17: =B16-C16+'Tiến độ thanh toán'!G13 -> 1350000000 | C17: 0 | D17: =IF(A17<=$B$4,B17*$B$3/12,B17*$B$5/12) -> 6187500 | E17: =SUM(C17+D17) -> 6187500 | F17: GN đợt 4 10%
A18: 11 | B18: =B17-C17 -> 1350000000 | C18: 0 | D18: =IF(A18<=$B$4,B18*$B$3/12,B18*$B$5/12) -> 6187500 | E18: =SUM(C18+D18) -> 6187500
A19: 12 | B19: =B18-C18+'Tiến độ thanh toán'!G14 -> 1575000000 | C19: 0 | D19: =IF(A19<=$B$4,B19*$B$3/12,B19*$B$5/12) -> 7218750 | E19: =SUM(C19+D19) -> 7218750 | F19: GN đợt 5 10%
A20: 13 | B20: =B19-C19 -> 1575000000 | C20: 0 | D20: =IF(A20<=$B$4,B20*$B$3/12,B20*$B$5/12) -> 7218750 | E20: =SUM(C20+D20) -> 7218750
A21: 14 | B21: =B20-C20 -> 1575000000 | C21: 0 | D21: =IF(A21<=$B$4,B21*$B$3/12,B21*$B$5/12) -> 7218750 | E21: =SUM(C21+D21) -> 7218750
A22: 15 | B22: =B21-C21 -> 1575000000 | C22: 0 | D22: =IF(A22<=$B$4,B22*$B$3/12,B22*$B$5/12) -> 7218750 | E22: =SUM(C22+D22) -> 7218750
A23: 16 | B23: =B22-C22 -> 1575000000 | C23: 0 | D23: =IF(A23<=$B$4,B23*$B$3/12,B23*$B$5/12) -> 7218750 | E23: =SUM(C23+D23) -> 7218750
A24: 17 | B24: =B23-C23 -> 1575000000 | C24: 0 | D24: =IF(A24<=$B$4,B24*$B$3/12,B24*$B$5/12) -> 7218750 | E24: =SUM(C24+D24) -> 7218750
A25: 18 | B25: =B24-C24+'Tiến độ thanh toán'!G15 -> 2137500000 | C25: 0 | D25: =IF(A25<=$B$4,B25*$B$3/12,B25*$B$5/12) -> 9796875 | E25: =SUM(C25+D25) -> 9796875 | F25: GN bàn giao nhà
A26: 19 | B26: =B25-C25 -> 2137500000 | C26: 0 | D26: =IF(A26<=$B$4,B26*$B$3/12,B26*$B$5/12) -> 9796875 | E26: =SUM(C26+D26) -> 9796875
A27: 20 | B27: =B26-C26 -> 2137500000 | C27: 0 | D27: =IF(A27<=$B$4,B27*$B$3/12,B27*$B$5/12) -> 9796875 | E27: =SUM(C27+D27) -> 9796875
A28: 21 | B28: =B27-C27 -> 2137500000 | C28: 0 | D28: =IF(A28<=$B$4,B28*$B$3/12,B28*$B$5/12) -> 9796875 | E28: =SUM(C28+D28) -> 9796875
A29: 22 | B29: =B28-C28 -> 2137500000 | C29: 0 | D29: =IF(A29<=$B$4,B29*$B$3/12,B29*$B$5/12) -> 9796875 | E29: =SUM(C29+D29) -> 9796875
A30: 23 | B30: =B29-C29 -> 2137500000 | C30: 0 | D30: =IF(A30<=$B$4,B30*$B$3/12,B30*$B$5/12) -> 9796875 | E30: =SUM(C30+D30) -> 9796875
A31: 24 | B31: =B30-C30+'Tiến độ thanh toán'!G16 -> 2250000000 | C31: 0 | D31: =IF(A31<=$B$4,B31*$B$3/12,B31*$B$5/12) -> 10312500 | E31: =SUM(C31+D31) -> 10312500 | F31: GN nhận GCN
A32: 25 | B32: =B31-C31 -> 2250000000 | C32: 0 | D32: =IF(A32<=$B$4,B32*$B$3/12,B32*$B$5/12) -> 10312500 | E32: =SUM(C32+D32) -> 10312500
A33: 26 | B33: =B32-C32 -> 2250000000 | C33: 0 | D33: =IF(A33<=$B$4,B33*$B$3/12,B33*$B$5/12) -> 10312500 | E33: =SUM(C33+D33) -> 10312500
A34: 27 | B34: =B33-C33 -> 2250000000 | C34: 0 | D34: =IF(A34<=$B$4,B34*$B$3/12,B34*$B$5/12) -> 10312500 | E34: =SUM(C34+D34) -> 10312500
A35: 28 | B35: =B34-C34 -> 2250000000 | C35: 0 | D35: =IF(A35<=$B$4,B35*$B$3/12,B35*$B$5/12) -> 10312500 | E35: =SUM(C35+D35) -> 10312500
A36: 29 | B36: =B35-C35 -> 2250000000 | C36: 0 | D36: =IF(A36<=$B$4,B36*$B$3/12,B36*$B$5/12) -> 10312500 | E36: =SUM(C36+D36) -> 10312500
A37: 30 | B37: =B36-C36 -> 2250000000 | C37: 0 | D37: =IF(A37<=$B$4,B37*$B$3/12,B37*$B$5/12) -> 10312500 | E37: =SUM(C37+D37) -> 10312500
A38: 31 | B38: =B37-C37 -> 2250000000 | C38: 0 | D38: =IF(A38<=$B$4,B38*$B$3/12,B38*$B$5/12) -> 10312500 | E38: =SUM(C38+D38) -> 10312500
A39: 32 | B39: =B38-C38 -> 2250000000 | C39: 0 | D39: =IF(A39<=$B$4,B39*$B$3/12,B39*$B$5/12) -> 10312500 | E39: =SUM(C39+D39) -> 10312500
A40: 33 | B40: =B39-C39 -> 2250000000 | C40: 0 | D40: =IF(A40<=$B$4,B40*$B$3/12,B40*$B$5/12) -> 10312500 | E40: =SUM(C40+D40) -> 10312500
...

Sheet TPB 30 năm
A1: THỜI GIAN VAY | B1: 360 | C1: THÁNG
A2: SỐ TIỀN VAY | B2: ='[1]Tiến độ giải ngân'!G17 -> 2250000000 | C2: VND
A3: LÃI SUẤT KỲ ĐẦU | B3: 0.055
A4: THỜI GIAN ƯU ĐÃI | B4: 36 | C4: tháng
A5: LÃI SUẤT ĐIỀU CHỈNH | B5: 0.108
A6: THỜI GIAN ÂN HẠN GỐC | B6: 36 | C6: tháng
A7: Số kỳ | B7: Gốc giảm dần | C7: Tiền gốc tháng | D7: Tiền lãi tháng | E7: Tiền gốc+ lãi
A8: 1 | B8: ='[1]Tiến độ giải ngân'!G10 -> 675000000 | C8: 0 | D8: =IF(A8<=$B$4,B8*$B$3/12,B8*$B$5/12) -> 3093750 | E8: =SUM(C8+D8) -> 3093750 | F8: GN đầu tiên
A9: 2 | B9: =B8-C8 -> 675000000 | C9: 0 | D9: =IF(A9<=$B$4,B9*$B$3/12,B9*$B$5/12) -> 3093750 | E9: =SUM(C9+D9) -> 3093750
A10: 3 | B10: =B9-C9 -> 675000000 | C10: 0 | D10: =IF(A10<=$B$4,B10*$B$3/12,B10*$B$5/12) -> 3093750 | E10: =SUM(C10+D10) -> 3093750
A11: 4 | B11: =B10-C10 -> 675000000 | C11: 0 | D11: =IF(A11<=$B$4,B11*$B$3/12,B11*$B$5/12) -> 3093750 | E11: =SUM(C11+D11) -> 3093750
A12: 5 | B12: =B11-C11 -> 675000000 | C12: 0 | D12: =IF(A12<=$B$4,B12*$B$3/12,B12*$B$5/12) -> 3093750 | E12: =SUM(C12+D12) -> 3093750
A13: 6 | B13: =B12-C12+'Tiến độ thanh toán'!G11 -> 900000000 | C13: 0 | D13: =IF(A13<=$B$4,B13*$B$3/12,B13*$B$5/12) -> 4125000 | E13: =SUM(C13+D13) -> 4125000 | F13: GN đợt 2 10%
A14: 7 | B14: =B13-C13 -> 900000000 | C14: 0 | D14: =IF(A14<=$B$4,B14*$B$3/12,B14*$B$5/12) -> 4125000 | E14: =SUM(C14+D14) -> 4125000
A15: 8 | B15: =B14-C14+'Tiến độ thanh toán'!G12 -> 1125000000 | C15: 0 | D15: =IF(A15<=$B$4,B15*$B$3/12,B15*$B$5/12) -> 5156250 | E15: =SUM(C15+D15) -> 5156250 | F15: GN đợt 3 10%
A16: 9 | B16: =B15-C15 -> 1125000000 | C16: 0 | D16: =IF(A16<=$B$4,B16*$B$3/12,B16*$B$5/12) -> 5156250 | E16: =SUM(C16+D16) -> 5156250
A17: 10 | B17: =B16-C16+'Tiến độ thanh toán'!G13 -> 1350000000 | C17: 0 | D17: =IF(A17<=$B$4,B17*$B$3/12,B17*$B$5/12) -> 6187500 | E17: =SUM(C17+D17) -> 6187500 | F17: GN đợt 4 10%
A18: 11 | B18: =B17-C17 -> 1350000000 | C18: 0 | D18: =IF(A18<=$B$4,B18*$B$3/12,B18*$B$5/12) -> 6187500 | E18: =SUM(C18+D18) -> 6187500
A19: 12 | B19: =B18-C18+'Tiến độ thanh toán'!G14 -> 1575000000 | C19: 0 | D19: =IF(A19<=$B$4,B19*$B$3/12,B19*$B$5/12) -> 7218750 | E19: =SUM(C19+D19) -> 7218750 | F19: GN đợt 5 10%
A20: 13 | B20: =B19-C19 -> 1575000000 | C20: 0 | D20: =IF(A20<=$B$4,B20*$B$3/12,B20*$B$5/12) -> 7218750 | E20: =SUM(C20+D20) -> 7218750
A21: 14 | B21: =B20-C20 -> 1575000000 | C21: 0 | D21: =IF(A21<=$B$4,B21*$B$3/12,B21*$B$5/12) -> 7218750 | E21: =SUM(C21+D21) -> 7218750
A22: 15 | B22: =B21-C21 -> 1575000000 | C22: 0 | D22: =IF(A22<=$B$4,B22*$B$3/12,B22*$B$5/12) -> 7218750 | E22: =SUM(C22+D22) -> 7218750
A23: 16 | B23: =B22-C22 -> 1575000000 | C23: 0 | D23: =IF(A23<=$B$4,B23*$B$3/12,B23*$B$5/12) -> 7218750 | E23: =SUM(C23+D23) -> 7218750
A24: 17 | B24: =B23-C23 -> 1575000000 | C24: 0 | D24: =IF(A24<=$B$4,B24*$B$3/12,B24*$B$5/12) -> 7218750 | E24: =SUM(C24+D24) -> 7218750
A25: 18 | B25: =B24-C24+'Tiến độ thanh toán'!G15 -> 2137500000 | C25: 0 | D25: =IF(A25<=$B$4,B25*$B$3/12,B25*$B$5/12) -> 9796875 | E25: =SUM(C25+D25) -> 9796875 | F25: GN bàn giao nhà
A26: 19 | B26: =B25-C25 -> 2137500000 | C26: 0 | D26: =IF(A26<=$B$4,B26*$B$3/12,B26*$B$5/12) -> 9796875 | E26: =SUM(C26+D26) -> 9796875
A27: 20 | B27: =B26-C26 -> 2137500000 | C27: 0 | D27: =IF(A27<=$B$4,B27*$B$3/12,B27*$B$5/12) -> 9796875 | E27: =SUM(C27+D27) -> 9796875
A28: 21 | B28: =B27-C27 -> 2137500000 | C28: 0 | D28: =IF(A28<=$B$4,B28*$B$3/12,B28*$B$5/12) -> 9796875 | E28: =SUM(C28+D28) -> 9796875
A29: 22 | B29: =B28-C28 -> 2137500000 | C29: 0 | D29: =IF(A29<=$B$4,B29*$B$3/12,B29*$B$5/12) -> 9796875 | E29: =SUM(C29+D29) -> 9796875
A30: 23 | B30: =B29-C29 -> 2137500000 | C30: 0 | D30: =IF(A30<=$B$4,B30*$B$3/12,B30*$B$5/12) -> 9796875 | E30: =SUM(C30+D30) -> 9796875
A31: 24 | B31: =B30-C30+'Tiến độ thanh toán'!G16 -> 2250000000 | C31: 0 | D31: =IF(A31<=$B$4,B31*$B$3/12,B31*$B$5/12) -> 10312500 | E31: =SUM(C31+D31) -> 10312500 | F31: GN nhận GCN
A32: 25 | B32: =B31-C31 -> 2250000000 | C32: 0 | D32: =IF(A32<=$B$4,B32*$B$3/12,B32*$B$5/12) -> 10312500 | E32: =SUM(C32+D32) -> 10312500
A33: 26 | B33: =B32-C32 -> 2250000000 | C33: 0 | D33: =IF(A33<=$B$4,B33*$B$3/12,B33*$B$5/12) -> 10312500 | E33: =SUM(C33+D33) -> 10312500
A34: 27 | B34: =B33-C33 -> 2250000000 | C34: 0 | D34: =IF(A34<=$B$4,B34*$B$3/12,B34*$B$5/12) -> 10312500 | E34: =SUM(C34+D34) -> 10312500
A35: 28 | B35: =B34-C34 -> 2250000000 | C35: 0 | D35: =IF(A35<=$B$4,B35*$B$3/12,B35*$B$5/12) -> 10312500 | E35: =SUM(C35+D35) -> 10312500
A36: 29 | B36: =B35-C35 -> 2250000000 | C36: 0 | D36: =IF(A36<=$B$4,B36*$B$3/12,B36*$B$5/12) -> 10312500 | E36: =SUM(C36+D36) -> 10312500
A37: 30 | B37: =B36-C36 -> 2250000000 | C37: 0 | D37: =IF(A37<=$B$4,B37*$B$3/12,B37*$B$5/12) -> 10312500 | E37: =SUM(C37+D37) -> 10312500
A38: 31 | B38: =B37-C37 -> 2250000000 | C38: 0 | D38: =IF(A38<=$B$4,B38*$B$3/12,B38*$B$5/12) -> 10312500 | E38: =SUM(C38+D38) -> 10312500
A39: 32 | B39: =B38-C38 -> 2250000000 | C39: 0 | D39: =IF(A39<=$B$4,B39*$B$3/12,B39*$B$5/12) -> 10312500 | E39: =SUM(C39+D39) -> 10312500
A40: 33 | B40: =B39-C39 -> 2250000000 | C40: 0 | D40: =IF(A40<=$B$4,B40*$B$3/12,B40*$B$5/12) -> 10312500 | E40: =SUM(C40+D40) -> 10312500
...

Sheet TPB 25 năm
A1: THỜI GIAN VAY | B1: 300 | C1: THÁNG
A2: SỐ TIỀN VAY | B2: ='[1]Tiến độ giải ngân'!G17 -> 2250000000 | C2: VND
A3: LÃI SUẤT KỲ ĐẦU | B3: 0.055
A4: THỜI GIAN ƯU ĐÃI | B4: 36 | C4: tháng
A5: LÃI SUẤT ĐIỀU CHỈNH | B5: 0.108
A6: THỜI GIAN ÂN HẠN GỐC | B6: 36 | C6: tháng
A7: Số kỳ | B7: Gốc giảm dần | C7: Tiền gốc tháng | D7: Tiền lãi tháng | E7: Tiền gốc+ lãi
A8: 1 | B8: ='[1]Tiến độ giải ngân'!G10 -> 675000000 | C8: 0 | D8: =IF(A8<=$B$4,B8*$B$3/12,B8*$B$5/12) -> 3093750 | E8: =SUM(C8+D8) -> 3093750 | F8: GN đầu tiên
A9: 2 | B9: =B8-C8 -> 675000000 | C9: 0 | D9: =IF(A9<=$B$4,B9*$B$3/12,B9*$B$5/12) -> 3093750 | E9: =SUM(C9+D9) -> 3093750
A10: 3 | B10: =B9-C9 -> 675000000 | C10: 0 | D10: =IF(A10<=$B$4,B10*$B$3/12,B10*$B$5/12) -> 3093750 | E10: =SUM(C10+D10) -> 3093750
A11: 4 | B11: =B10-C10 -> 675000000 | C11: 0 | D11: =IF(A11<=$B$4,B11*$B$3/12,B11*$B$5/12) -> 3093750 | E11: =SUM(C11+D11) -> 3093750
A12: 5 | B12: =B11-C11 -> 675000000 | C12: 0 | D12: =IF(A12<=$B$4,B12*$B$3/12,B12*$B$5/12) -> 3093750 | E12: =SUM(C12+D12) -> 3093750
A13: 6 | B13: =B12-C12+'Tiến độ thanh toán'!G11 -> 900000000 | C13: 0 | D13: =IF(A13<=$B$4,B13*$B$3/12,B13*$B$5/12) -> 4125000 | E13: =SUM(C13+D13) -> 4125000 | F13: GN đợt 2 10%
A14: 7 | B14: =B13-C13 -> 900000000 | C14: 0 | D14: =IF(A14<=$B$4,B14*$B$3/12,B14*$B$5/12) -> 4125000 | E14: =SUM(C14+D14) -> 4125000
A15: 8 | B15: =B14-C14+'Tiến độ thanh toán'!G12 -> 1125000000 | C15: 0 | D15: =IF(A15<=$B$4,B15*$B$3/12,B15*$B$5/12) -> 5156250 | E15: =SUM(C15+D15) -> 5156250 | F15: GN đợt 3 10%
A16: 9 | B16: =B15-C15 -> 1125000000 | C16: 0 | D16: =IF(A16<=$B$4,B16*$B$3/12,B16*$B$5/12) -> 5156250 | E16: =SUM(C16+D16) -> 5156250
A17: 10 | B17: =B16-C16+'Tiến độ thanh toán'!G13 -> 1350000000 | C17: 0 | D17: =IF(A17<=$B$4,B17*$B$3/12,B17*$B$5/12) -> 6187500 | E17: =SUM(C17+D17) -> 6187500 | F17: GN đợt 4 10%
A18: 11 | B18: =B17-C17 -> 1350000000 | C18: 0 | D18: =IF(A18<=$B$4,B18*$B$3/12,B18*$B$5/12) -> 6187500 | E18: =SUM(C18+D18) -> 6187500
A19: 12 | B19: =B18-C18+'Tiến độ thanh toán'!G14 -> 1575000000 | C19: 0 | D19: =IF(A19<=$B$4,B19*$B$3/12,B19*$B$5/12) -> 7218750 | E19: =SUM(C19+D19) -> 7218750 | F19: GN đợt 5 10%
A20: 13 | B20: =B19-C19 -> 1575000000 | C20: 0 | D20: =IF(A20<=$B$4,B20*$B$3/12,B20*$B$5/12) -> 7218750 | E20: =SUM(C20+D20) -> 7218750
A21: 14 | B21: =B20-C20 -> 1575000000 | C21: 0 | D21: =IF(A21<=$B$4,B21*$B$3/12,B21*$B$5/12) -> 7218750 | E21: =SUM(C21+D21) -> 7218750
A22: 15 | B22: =B21-C21 -> 1575000000 | C22: 0 | D22: =IF(A22<=$B$4,B22*$B$3/12,B22*$B$5/12) -> 7218750 | E22: =SUM(C22+D22) -> 7218750
A23: 16 | B23: =B22-C22 -> 1575000000 | C23: 0 | D23: =IF(A23<=$B$4,B23*$B$3/12,B23*$B$5/12) -> 7218750 | E23: =SUM(C23+D23) -> 7218750
A24: 17 | B24: =B23-C23 -> 1575000000 | C24: 0 | D24: =IF(A24<=$B$4,B24*$B$3/12,B24*$B$5/12) -> 7218750 | E24: =SUM(C24+D24) -> 7218750
A25: 18 | B25: =B24-C24+'Tiến độ thanh toán'!G15 -> 2137500000 | C25: 0 | D25: =IF(A25<=$B$4,B25*$B$3/12,B25*$B$5/12) -> 9796875 | E25: =SUM(C25+D25) -> 9796875 | F25: GN bàn giao nhà
A26: 19 | B26: =B25-C25 -> 2137500000 | C26: 0 | D26: =IF(A26<=$B$4,B26*$B$3/12,B26*$B$5/12) -> 9796875 | E26: =SUM(C26+D26) -> 9796875
A27: 20 | B27: =B26-C26 -> 2137500000 | C27: 0 | D27: =IF(A27<=$B$4,B27*$B$3/12,B27*$B$5/12) -> 9796875 | E27: =SUM(C27+D27) -> 9796875
A28: 21 | B28: =B27-C27 -> 2137500000 | C28: 0 | D28: =IF(A28<=$B$4,B28*$B$3/12,B28*$B$5/12) -> 9796875 | E28: =SUM(C28+D28) -> 9796875
A29: 22 | B29: =B28-C28 -> 2137500000 | C29: 0 | D29: =IF(A29<=$B$4,B29*$B$3/12,B29*$B$5/12) -> 9796875 | E29: =SUM(C29+D29) -> 9796875
A30: 23 | B30: =B29-C29 -> 2137500000 | C30: 0 | D30: =IF(A30<=$B$4,B30*$B$3/12,B30*$B$5/12) -> 9796875 | E30: =SUM(C30+D30) -> 9796875
A31: 24 | B31: =B30-C30+'Tiến độ thanh toán'!G16 -> 2250000000 | C31: 0 | D31: =IF(A31<=$B$4,B31*$B$3/12,B31*$B$5/12) -> 10312500 | E31: =SUM(C31+D31) -> 10312500 | F31: GN nhận GCN
A32: 25 | B32: =B31-C31 -> 2250000000 | C32: 0 | D32: =IF(A32<=$B$4,B32*$B$3/12,B32*$B$5/12) -> 10312500 | E32: =SUM(C32+D32) -> 10312500
A33: 26 | B33: =B32-C32 -> 2250000000 | C33: 0 | D33: =IF(A33<=$B$4,B33*$B$3/12,B33*$B$5/12) -> 10312500 | E33: =SUM(C33+D33) -> 10312500
A34: 27 | B34: =B33-C33 -> 2250000000 | C34: 0 | D34: =IF(A34<=$B$4,B34*$B$3/12,B34*$B$5/12) -> 10312500 | E34: =SUM(C34+D34) -> 10312500
A35: 28 | B35: =B34-C34 -> 2250000000 | C35: 0 | D35: =IF(A35<=$B$4,B35*$B$3/12,B35*$B$5/12) -> 10312500 | E35: =SUM(C35+D35) -> 10312500
A36: 29 | B36: =B35-C35 -> 2250000000 | C36: 0 | D36: =IF(A36<=$B$4,B36*$B$3/12,B36*$B$5/12) -> 10312500 | E36: =SUM(C36+D36) -> 10312500
A37: 30 | B37: =B36-C36 -> 2250000000 | C37: 0 | D37: =IF(A37<=$B$4,B37*$B$3/12,B37*$B$5/12) -> 10312500 | E37: =SUM(C37+D37) -> 10312500
A38: 31 | B38: =B37-C37 -> 2250000000 | C38: 0 | D38: =IF(A38<=$B$4,B38*$B$3/12,B38*$B$5/12) -> 10312500 | E38: =SUM(C38+D38) -> 10312500
A39: 32 | B39: =B38-C38 -> 2250000000 | C39: 0 | D39: =IF(A39<=$B$4,B39*$B$3/12,B39*$B$5/12) -> 10312500 | E39: =SUM(C39+D39) -> 10312500
A40: 33 | B40: =B39-C39 -> 2250000000 | C40: 0 | D40: =IF(A40<=$B$4,B40*$B$3/12,B40*$B$5/12) -> 10312500 | E40: =SUM(C40+D40) -> 10312500
...

Sheet TPB 20 năm
A1: THỜI GIAN VAY | B1: 240 | C1: THÁNG
A2: SỐ TIỀN VAY | B2: ='[1]Tiến độ giải ngân'!G17 -> 2250000000 | C2: VND
A3: LÃI SUẤT KỲ ĐẦU | B3: 0.055
A4: THỜI GIAN ƯU ĐÃI | B4: 36 | C4: tháng
A5: LÃI SUẤT ĐIỀU CHỈNH | B5: 0.108
A6: THỜI GIAN ÂN HẠN GỐC | B6: 36 | C6: tháng
A7: Số kỳ | B7: Gốc giảm dần | C7: Tiền gốc tháng | D7: Tiền lãi tháng | E7: Tiền gốc+ lãi
A8: 1 | B8: ='[1]Tiến độ giải ngân'!G10 -> 675000000 | C8: 0 | D8: =IF(A8<=$B$4,B8*$B$3/12,B8*$B$5/12) -> 3093750 | E8: =SUM(C8+D8) -> 3093750 | F8: GN đầu tiên
A9: 2 | B9: =B8-C8 -> 675000000 | C9: 0 | D9: =IF(A9<=$B$4,B9*$B$3/12,B9*$B$5/12) -> 3093750 | E9: =SUM(C9+D9) -> 3093750
A10: 3 | B10: =B9-C9 -> 675000000 | C10: 0 | D10: =IF(A10<=$B$4,B10*$B$3/12,B10*$B$5/12) -> 3093750 | E10: =SUM(C10+D10) -> 3093750
A11: 4 | B11: =B10-C10 -> 675000000 | C11: 0 | D11: =IF(A11<=$B$4,B11*$B$3/12,B11*$B$5/12) -> 3093750 | E11: =SUM(C11+D11) -> 3093750
A12: 5 | B12: =B11-C11 -> 675000000 | C12: 0 | D12: =IF(A12<=$B$4,B12*$B$3/12,B12*$B$5/12) -> 3093750 | E12: =SUM(C12+D12) -> 3093750
A13: 6 | B13: =B12-C12+'Tiến độ thanh toán'!G11 -> 900000000 | C13: 0 | D13: =IF(A13<=$B$4,B13*$B$3/12,B13*$B$5/12) -> 4125000 | E13: =SUM(C13+D13) -> 4125000 | F13: GN đợt 2 10%
A14: 7 | B14: =B13-C13 -> 900000000 | C14: 0 | D14: =IF(A14<=$B$4,B14*$B$3/12,B14*$B$5/12) -> 4125000 | E14: =SUM(C14+D14) -> 4125000
A15: 8 | B15: =B14-C14+'Tiến độ thanh toán'!G12 -> 1125000000 | C15: 0 | D15: =IF(A15<=$B$4,B15*$B$3/12,B15*$B$5/12) -> 5156250 | E15: =SUM(C15+D15) -> 5156250 | F15: GN đợt 3 10%
A16: 9 | B16: =B15-C15 -> 1125000000 | C16: 0 | D16: =IF(A16<=$B$4,B16*$B$3/12,B16*$B$5/12) -> 5156250 | E16: =SUM(C16+D16) -> 5156250
A17: 10 | B17: =B16-C16+'Tiến độ thanh toán'!G13 -> 1350000000 | C17: 0 | D17: =IF(A17<=$B$4,B17*$B$3/12,B17*$B$5/12) -> 6187500 | E17: =SUM(C17+D17) -> 6187500 | F17: GN đợt 4 10%
A18: 11 | B18: =B17-C17 -> 1350000000 | C18: 0 | D18: =IF(A18<=$B$4,B18*$B$3/12,B18*$B$5/12) -> 6187500 | E18: =SUM(C18+D18) -> 6187500
A19: 12 | B19: =B18-C18+'Tiến độ thanh toán'!G14 -> 1575000000 | C19: 0 | D19: =IF(A19<=$B$4,B19*$B$3/12,B19*$B$5/12) -> 7218750 | E19: =SUM(C19+D19) -> 7218750 | F19: GN đợt 5 10%
A20: 13 | B20: =B19-C19 -> 1575000000 | C20: 0 | D20: =IF(A20<=$B$4,B20*$B$3/12,B20*$B$5/12) -> 7218750 | E20: =SUM(C20+D20) -> 7218750
A21: 14 | B21: =B20-C20 -> 1575000000 | C21: 0 | D21: =IF(A21<=$B$4,B21*$B$3/12,B21*$B$5/12) -> 7218750 | E21: =SUM(C21+D21) -> 7218750
A22: 15 | B22: =B21-C21 -> 1575000000 | C22: 0 | D22: =IF(A22<=$B$4,B22*$B$3/12,B22*$B$5/12) -> 7218750 | E22: =SUM(C22+D22) -> 7218750
A23: 16 | B23: =B22-C22 -> 1575000000 | C23: 0 | D23: =IF(A23<=$B$4,B23*$B$3/12,B23*$B$5/12) -> 7218750 | E23: =SUM(C23+D23) -> 7218750
A24: 17 | B24: =B23-C23 -> 1575000000 | C24: 0 | D24: =IF(A24<=$B$4,B24*$B$3/12,B24*$B$5/12) -> 7218750 | E24: =SUM(C24+D24) -> 7218750
A25: 18 | B25: =B24-C24+'Tiến độ thanh toán'!G15 -> 2137500000 | C25: 0 | D25: =IF(A25<=$B$4,B25*$B$3/12,B25*$B$5/12) -> 9796875 | E25: =SUM(C25+D25) -> 9796875 | F25: GN bàn giao nhà
A26: 19 | B26: =B25-C25 -> 2137500000 | C26: 0 | D26: =IF(A26<=$B$4,B26*$B$3/12,B26*$B$5/12) -> 9796875 | E26: =SUM(C26+D26) -> 9796875
A27: 20 | B27: =B26-C26 -> 2137500000 | C27: 0 | D27: =IF(A27<=$B$4,B27*$B$3/12,B27*$B$5/12) -> 9796875 | E27: =SUM(C27+D27) -> 9796875
A28: 21 | B28: =B27-C27 -> 2137500000 | C28: 0 | D28: =IF(A28<=$B$4,B28*$B$3/12,B28*$B$5/12) -> 9796875 | E28: =SUM(C28+D28) -> 9796875
A29: 22 | B29: =B28-C28 -> 2137500000 | C29: 0 | D29: =IF(A29<=$B$4,B29*$B$3/12,B29*$B$5/12) -> 9796875 | E29: =SUM(C29+D29) -> 9796875
A30: 23 | B30: =B29-C29 -> 2137500000 | C30: 0 | D30: =IF(A30<=$B$4,B30*$B$3/12,B30*$B$5/12) -> 9796875 | E30: =SUM(C30+D30) -> 9796875
A31: 24 | B31: =B30-C30+'Tiến độ thanh toán'!G16 -> 2250000000 | C31: 0 | D31: =IF(A31<=$B$4,B31*$B$3/12,B31*$B$5/12) -> 10312500 | E31: =SUM(C31+D31) -> 10312500 | F31: GN nhận GCN
A32: 25 | B32: =B31-C31 -> 2250000000 | C32: 0 | D32: =IF(A32<=$B$4,B32*$B$3/12,B32*$B$5/12) -> 10312500 | E32: =SUM(C32+D32) -> 10312500
A33: 26 | B33: =B32-C32 -> 2250000000 | C33: 0 | D33: =IF(A33<=$B$4,B33*$B$3/12,B33*$B$5/12) -> 10312500 | E33: =SUM(C33+D33) -> 10312500
A34: 27 | B34: =B33-C33 -> 2250000000 | C34: 0 | D34: =IF(A34<=$B$4,B34*$B$3/12,B34*$B$5/12) -> 10312500 | E34: =SUM(C34+D34) -> 10312500
A35: 28 | B35: =B34-C34 -> 2250000000 | C35: 0 | D35: =IF(A35<=$B$4,B35*$B$3/12,B35*$B$5/12) -> 10312500 | E35: =SUM(C35+D35) -> 10312500
A36: 29 | B36: =B35-C35 -> 2250000000 | C36: 0 | D36: =IF(A36<=$B$4,B36*$B$3/12,B36*$B$5/12) -> 10312500 | E36: =SUM(C36+D36) -> 10312500
A37: 30 | B37: =B36-C36 -> 2250000000 | C37: 0 | D37: =IF(A37<=$B$4,B37*$B$3/12,B37*$B$5/12) -> 10312500 | E37: =SUM(C37+D37) -> 10312500
A38: 31 | B38: =B37-C37 -> 2250000000 | C38: 0 | D38: =IF(A38<=$B$4,B38*$B$3/12,B38*$B$5/12) -> 10312500 | E38: =SUM(C38+D38) -> 10312500
A39: 32 | B39: =B38-C38 -> 2250000000 | C39: 0 | D39: =IF(A39<=$B$4,B39*$B$3/12,B39*$B$5/12) -> 10312500 | E39: =SUM(C39+D39) -> 10312500
A40: 33 | B40: =B39-C39 -> 2250000000 | C40: 0 | D40: =IF(A40<=$B$4,B40*$B$3/12,B40*$B$5/12) -> 10312500 | E40: =SUM(C40+D40) -> 10312500
...

Sheet TPB 15 năm
A1: THỜI GIAN VAY | B1: 180 | C1: THÁNG
A2: SỐ TIỀN VAY | B2: ='[1]Tiến độ giải ngân'!G17 -> 2250000000 | C2: VND
A3: LÃI SUẤT KỲ ĐẦU | B3: 0.055
A4: THỜI GIAN ƯU ĐÃI | B4: 36 | C4: tháng
A5: LÃI SUẤT ĐIỀU CHỈNH | B5: 0.108
A6: THỜI GIAN ÂN HẠN GỐC | B6: 36 | C6: tháng
A7: Số kỳ | B7: Gốc giảm dần | C7: Tiền gốc tháng | D7: Tiền lãi tháng | E7: Tiền gốc+ lãi
A8: 1 | B8: ='[1]Tiến độ giải ngân'!G10 -> 675000000 | C8: 0 | D8: =IF(A8<=$B$4,B8*$B$3/12,B8*$B$5/12) -> 3093750 | E8: =SUM(C8+D8) -> 3093750 | F8: GN đầu tiên
A9: 2 | B9: =B8-C8 -> 675000000 | C9: 0 | D9: =IF(A9<=$B$4,B9*$B$3/12,B9*$B$5/12) -> 3093750 | E9: =SUM(C9+D9) -> 3093750
A10: 3 | B10: =B9-C9 -> 675000000 | C10: 0 | D10: =IF(A10<=$B$4,B10*$B$3/12,B10*$B$5/12) -> 3093750 | E10: =SUM(C10+D10) -> 3093750
A11: 4 | B11: =B10-C10 -> 675000000 | C11: 0 | D11: =IF(A11<=$B$4,B11*$B$3/12,B11*$B$5/12) -> 3093750 | E11: =SUM(C11+D11) -> 3093750
A12: 5 | B12: =B11-C11 -> 675000000 | C12: 0 | D12: =IF(A12<=$B$4,B12*$B$3/12,B12*$B$5/12) -> 3093750 | E12: =SUM(C12+D12) -> 3093750
A13: 6 | B13: =B12-C12+'Tiến độ thanh toán'!G11 -> 900000000 | C13: 0 | D13: =IF(A13<=$B$4,B13*$B$3/12,B13*$B$5/12) -> 4125000 | E13: =SUM(C13+D13) -> 4125000 | F13: GN đợt 2 10%
A14: 7 | B14: =B13-C13 -> 900000000 | C14: 0 | D14: =IF(A14<=$B$4,B14*$B$3/12,B14*$B$5/12) -> 4125000 | E14: =SUM(C14+D14) -> 4125000
A15: 8 | B15: =B14-C14+'Tiến độ thanh toán'!G12 -> 1125000000 | C15: 0 | D15: =IF(A15<=$B$4,B15*$B$3/12,B15*$B$5/12) -> 5156250 | E15: =SUM(C15+D15) -> 5156250 | F15: GN đợt 3 10%
A16: 9 | B16: =B15-C15 -> 1125000000 | C16: 0 | D16: =IF(A16<=$B$4,B16*$B$3/12,B16*$B$5/12) -> 5156250 | E16: =SUM(C16+D16) -> 5156250
A17: 10 | B17: =B16-C16+'Tiến độ thanh toán'!G13 -> 1350000000 | C17: 0 | D17: =IF(A17<=$B$4,B17*$B$3/12,B17*$B$5/12) -> 6187500 | E17: =SUM(C17+D17) -> 6187500 | F17: GN đợt 4 10%
A18: 11 | B18: =B17-C17 -> 1350000000 | C18: 0 | D18: =IF(A18<=$B$4,B18*$B$3/12,B18*$B$5/12) -> 6187500 | E18: =SUM(C18+D18) -> 6187500
A19: 12 | B19: =B18-C18+'Tiến độ thanh toán'!G14 -> 1575000000 | C19: 0 | D19: =IF(A19<=$B$4,B19*$B$3/12,B19*$B$5/12) -> 7218750 | E19: =SUM(C19+D19) -> 7218750 | F19: GN đợt 5 10%
A20: 13 | B20: =B19-C19 -> 1575000000 | C20: 0 | D20: =IF(A20<=$B$4,B20*$B$3/12,B20*$B$5/12) -> 7218750 | E20: =SUM(C20+D20) -> 7218750
A21: 14 | B21: =B20-C20 -> 1575000000 | C21: 0 | D21: =IF(A21<=$B$4,B21*$B$3/12,B21*$B$5/12) -> 7218750 | E21: =SUM(C21+D21) -> 7218750
A22: 15 | B22: =B21-C21 -> 1575000000 | C22: 0 | D22: =IF(A22<=$B$4,B22*$B$3/12,B22*$B$5/12) -> 7218750 | E22: =SUM(C22+D22) -> 7218750
A23: 16 | B23: =B22-C22 -> 1575000000 | C23: 0 | D23: =IF(A23<=$B$4,B23*$B$3/12,B23*$B$5/12) -> 7218750 | E23: =SUM(C23+D23) -> 7218750
A24: 17 | B24: =B23-C23 -> 1575000000 | C24: 0 | D24: =IF(A24<=$B$4,B24*$B$3/12,B24*$B$5/12) -> 7218750 | E24: =SUM(C24+D24) -> 7218750
A25: 18 | B25: =B24-C24+'Tiến độ thanh toán'!G15 -> 2137500000 | C25: 0 | D25: =IF(A25<=$B$4,B25*$B$3/12,B25*$B$5/12) -> 9796875 | E25: =SUM(C25+D25) -> 9796875 | F25: GN bàn giao nhà
A26: 19 | B26: =B25-C25 -> 2137500000 | C26: 0 | D26: =IF(A26<=$B$4,B26*$B$3/12,B26*$B$5/12) -> 9796875 | E26: =SUM(C26+D26) -> 9796875
A27: 20 | B27: =B26-C26 -> 2137500000 | C27: 0 | D27: =IF(A27<=$B$4,B27*$B$3/12,B27*$B$5/12) -> 9796875 | E27: =SUM(C27+D27) -> 9796875
A28: 21 | B28: =B27-C27 -> 2137500000 | C28: 0 | D28: =IF(A28<=$B$4,B28*$B$3/12,B28*$B$5/12) -> 9796875 | E28: =SUM(C28+D28) -> 9796875
A29: 22 | B29: =B28-C28 -> 2137500000 | C29: 0 | D29: =IF(A29<=$B$4,B29*$B$3/12,B29*$B$5/12) -> 9796875 | E29: =SUM(C29+D29) -> 9796875
A30: 23 | B30: =B29-C29 -> 2137500000 | C30: 0 | D30: =IF(A30<=$B$4,B30*$B$3/12,B30*$B$5/12) -> 9796875 | E30: =SUM(C30+D30) -> 9796875
A31: 24 | B31: =B30-C30+'Tiến độ thanh toán'!G16 -> 2250000000 | C31: 0 | D31: =IF(A31<=$B$4,B31*$B$3/12,B31*$B$5/12) -> 10312500 | E31: =SUM(C31+D31) -> 10312500 | F31: GN nhận GCN
A32: 25 | B32: =B31-C31 -> 2250000000 | C32: 0 | D32: =IF(A32<=$B$4,B32*$B$3/12,B32*$B$5/12) -> 10312500 | E32: =SUM(C32+D32) -> 10312500
A33: 26 | B33: =B32-C32 -> 2250000000 | C33: 0 | D33: =IF(A33<=$B$4,B33*$B$3/12,B33*$B$5/12) -> 10312500 | E33: =SUM(C33+D33) -> 10312500
A34: 27 | B34: =B33-C33 -> 2250000000 | C34: 0 | D34: =IF(A34<=$B$4,B34*$B$3/12,B34*$B$5/12) -> 10312500 | E34: =SUM(C34+D34) -> 10312500
A35: 28 | B35: =B34-C34 -> 2250000000 | C35: 0 | D35: =IF(A35<=$B$4,B35*$B$3/12,B35*$B$5/12) -> 10312500 | E35: =SUM(C35+D35) -> 10312500
A36: 29 | B36: =B35-C35 -> 2250000000 | C36: 0 | D36: =IF(A36<=$B$4,B36*$B$3/12,B36*$B$5/12) -> 10312500 | E36: =SUM(C36+D36) -> 10312500
A37: 30 | B37: =B36-C36 -> 2250000000 | C37: 0 | D37: =IF(A37<=$B$4,B37*$B$3/12,B37*$B$5/12) -> 10312500 | E37: =SUM(C37+D37) -> 10312500
A38: 31 | B38: =B37-C37 -> 2250000000 | C38: 0 | D38: =IF(A38<=$B$4,B38*$B$3/12,B38*$B$5/12) -> 10312500 | E38: =SUM(C38+D38) -> 10312500
A39: 32 | B39: =B38-C38 -> 2250000000 | C39: 0 | D39: =IF(A39<=$B$4,B39*$B$3/12,B39*$B$5/12) -> 10312500 | E39: =SUM(C39+D39) -> 10312500
A40: 33 | B40: =B39-C39 -> 2250000000 | C40: 0 | D40: =IF(A40<=$B$4,B40*$B$3/12,B40*$B$5/12) -> 10312500 | E40: =SUM(C40+D40) -> 10312500
...

Sheet TPB 10 năm
A1: THỜI GIAN VAY | B1: 120 | C1: THÁNG
A2: SỐ TIỀN VAY | B2: ='[1]Tiến độ giải ngân'!G17 -> 2250000000 | C2: VND
A3: LÃI SUẤT KỲ ĐẦU | B3: 0.055
A4: THỜI GIAN ƯU ĐÃI | B4: 36 | C4: tháng
A5: LÃI SUẤT ĐIỀU CHỈNH | B5: 0.108
A6: THỜI GIAN ÂN HẠN GỐC | B6: 36 | C6: tháng
A7: Số kỳ | B7: Gốc giảm dần | C7: Tiền gốc tháng | D7: Tiền lãi tháng | E7: Tiền gốc+ lãi
A8: 1 | B8: ='[1]Tiến độ giải ngân'!G10 -> 675000000 | C8: 0 | D8: =IF(A8<=$B$4,B8*$B$3/12,B8*$B$5/12) -> 3093750 | E8: =SUM(C8+D8) -> 3093750 | F8: GN đầu tiên
A9: 2 | B9: =B8-C8 -> 675000000 | C9: 0 | D9: =IF(A9<=$B$4,B9*$B$3/12,B9*$B$5/12) -> 3093750 | E9: =SUM(C9+D9) -> 3093750
A10: 3 | B10: =B9-C9 -> 675000000 | C10: 0 | D10: =IF(A10<=$B$4,B10*$B$3/12,B10*$B$5/12) -> 3093750 | E10: =SUM(C10+D10) -> 3093750
A11: 4 | B11: =B10-C10 -> 675000000 | C11: 0 | D11: =IF(A11<=$B$4,B11*$B$3/12,B11*$B$5/12) -> 3093750 | E11: =SUM(C11+D11) -> 3093750
A12: 5 | B12: =B11-C11 -> 675000000 | C12: 0 | D12: =IF(A12<=$B$4,B12*$B$3/12,B12*$B$5/12) -> 3093750 | E12: =SUM(C12+D12) -> 3093750
A13: 6 | B13: =B12-C12+'Tiến độ thanh toán'!G11 -> 900000000 | C13: 0 | D13: =IF(A13<=$B$4,B13*$B$3/12,B13*$B$5/12) -> 4125000 | E13: =SUM(C13+D13) -> 4125000 | F13: GN đợt 2 10%
A14: 7 | B14: =B13-C13 -> 900000000 | C14: 0 | D14: =IF(A14<=$B$4,B14*$B$3/12,B14*$B$5/12) -> 4125000 | E14: =SUM(C14+D14) -> 4125000 | F14: GN đợt 3 10%
A15: 8 | B15: =B14-C14+'Tiến độ thanh toán'!G12 -> 1125000000 | C15: 0 | D15: =IF(A15<=$B$4,B15*$B$3/12,B15*$B$5/12) -> 5156250 | E15: =SUM(C15+D15) -> 5156250 | F15: GN đợt 4 10%
A16: 9 | B16: =B15-C15 -> 1125000000 | C16: 0 | D16: =IF(A16<=$B$4,B16*$B$3/12,B16*$B$5/12) -> 5156250 | E16: =SUM(C16+D16) -> 5156250 | F16: GN đợt 5 10%
A17: 10 | B17: =B16-C16+'Tiến độ thanh toán'!G13 -> 1350000000 | C17: 0 | D17: =IF(A17<=$B$4,B17*$B$3/12,B17*$B$5/12) -> 6187500 | E17: =SUM(C17+D17) -> 6187500
A18: 11 | B18: =B17-C17 -> 1350000000 | C18: 0 | D18: =IF(A18<=$B$4,B18*$B$3/12,B18*$B$5/12) -> 6187500 | E18: =SUM(C18+D18) -> 6187500
A19: 12 | B19: =B18-C18+'Tiến độ thanh toán'!G14 -> 1575000000 | C19: 0 | D19: =IF(A19<=$B$4,B19*$B$3/12,B19*$B$5/12) -> 7218750 | E19: =SUM(C19+D19) -> 7218750
A20: 13 | B20: =B19-C19 -> 1575000000 | C20: 0 | D20: =IF(A20<=$B$4,B20*$B$3/12,B20*$B$5/12) -> 7218750 | E20: =SUM(C20+D20) -> 7218750
A21: 14 | B21: =B20-C20 -> 1575000000 | C21: 0 | D21: =IF(A21<=$B$4,B21*$B$3/12,B21*$B$5/12) -> 7218750 | E21: =SUM(C21+D21) -> 7218750
A22: 15 | B22: =B21-C21 -> 1575000000 | C22: 0 | D22: =IF(A22<=$B$4,B22*$B$3/12,B22*$B$5/12) -> 7218750 | E22: =SUM(C22+D22) -> 7218750
A23: 16 | B23: =B22-C22 -> 1575000000 | C23: 0 | D23: =IF(A23<=$B$4,B23*$B$3/12,B23*$B$5/12) -> 7218750 | E23: =SUM(C23+D23) -> 7218750 | F23: GN đợt 6 25%
A24: 17 | B24: =B23-C23 -> 1575000000 | C24: 0 | D24: =IF(A24<=$B$4,B24*$B$3/12,B24*$B$5/12) -> 7218750 | E24: =SUM(C24+D24) -> 7218750
A25: 18 | B25: =B24-C24+'Tiến độ thanh toán'!G15 -> 2137500000 | C25: 0 | D25: =IF(A25<=$B$4,B25*$B$3/12,B25*$B$5/12) -> 9796875 | E25: =SUM(C25+D25) -> 9796875
A26: 19 | B26: =B25-C25 -> 2137500000 | C26: 0 | D26: =IF(A26<=$B$4,B26*$B$3/12,B26*$B$5/12) -> 9796875 | E26: =SUM(C26+D26) -> 9796875
A27: 20 | B27: =B26-C26 -> 2137500000 | C27: 0 | D27: =IF(A27<=$B$4,B27*$B$3/12,B27*$B$5/12) -> 9796875 | E27: =SUM(C27+D27) -> 9796875
A28: 21 | B28: =B27-C27 -> 2137500000 | C28: 0 | D28: =IF(A28<=$B$4,B28*$B$3/12,B28*$B$5/12) -> 9796875 | E28: =SUM(C28+D28) -> 9796875
A29: 22 | B29: =B28-C28 -> 2137500000 | C29: 0 | D29: =IF(A29<=$B$4,B29*$B$3/12,B29*$B$5/12) -> 9796875 | E29: =SUM(C29+D29) -> 9796875 | F29: GN đợt 7 5%
A30: 23 | B30: =B29-C29 -> 2137500000 | C30: 0 | D30: =IF(A30<=$B$4,B30*$B$3/12,B30*$B$5/12) -> 9796875 | E30: =SUM(C30+D30) -> 9796875
A31: 24 | B31: =B30-C30+'Tiến độ thanh toán'!G16 -> 2250000000 | C31: 0 | D31: =IF(A31<=$B$4,B31*$B$3/12,B31*$B$5/12) -> 10312500 | E31: =SUM(C31+D31) -> 10312500
A32: 25 | B32: =B31-C31 -> 2250000000 | C32: 0 | D32: =IF(A32<=$B$4,B32*$B$3/12,B32*$B$5/12) -> 10312500 | E32: =SUM(C32+D32) -> 10312500
A33: 26 | B33: =B32-C32 -> 2250000000 | C33: 0 | D33: =IF(A33<=$B$4,B33*$B$3/12,B33*$B$5/12) -> 10312500 | E33: =SUM(C33+D33) -> 10312500
A34: 27 | B34: =B33-C33 -> 2250000000 | C34: 0 | D34: =IF(A34<=$B$4,B34*$B$3/12,B34*$B$5/12) -> 10312500 | E34: =SUM(C34+D34) -> 10312500
A35: 28 | B35: =B34-C34 -> 2250000000 | C35: 0 | D35: =IF(A35<=$B$4,B35*$B$3/12,B35*$B$5/12) -> 10312500 | E35: =SUM(C35+D35) -> 10312500
A36: 29 | B36: =B35-C35 -> 2250000000 | C36: 0 | D36: =IF(A36<=$B$4,B36*$B$3/12,B36*$B$5/12) -> 10312500 | E36: =SUM(C36+D36) -> 10312500
A37: 30 | B37: =B36-C36 -> 2250000000 | C37: 0 | D37: =IF(A37<=$B$4,B37*$B$3/12,B37*$B$5/12) -> 10312500 | E37: =SUM(C37+D37) -> 10312500
A38: 31 | B38: =B37-C37 -> 2250000000 | C38: 0 | D38: =IF(A38<=$B$4,B38*$B$3/12,B38*$B$5/12) -> 10312500 | E38: =SUM(C38+D38) -> 10312500
A39: 32 | B39: =B38-C38 -> 2250000000 | C39: 0 | D39: =IF(A39<=$B$4,B39*$B$3/12,B39*$B$5/12) -> 10312500 | E39: =SUM(C39+D39) -> 10312500
A40: 33 | B40: =B39-C39 -> 2250000000 | C40: 0 | D40: =IF(A40<=$B$4,B40*$B$3/12,B40*$B$5/12) -> 10312500 | E40: =SUM(C40+D40) -> 10312500
...
