Workbook

Sheet Tiến độ giải ngân
A1: Tính giá căn hộ, các ưu đãi & dự tính số tiền thanh toán các Đợt
B2: TT căn hộ diện tích | C2: 60 | D2: Thành tiền
B3: Đơn giá căn hộ | C3: 50000000 | D3: =C2*C3 -> 3000000000
B4: Chiết khấu | D4: =D3*C4 -> 0
B5: Giá sau chiết khầu | D5: =D3-D4 -> 3000000000
B6: Tỷ lệ vay | C6: 0.75 | D6: =D3*75% -> 2250000000
B8: Đợt thanh toán | C8: Thời gian | D8: Số tiền/Tỉ lệ thanh toán | E8: Số tiền thanh toán | F8: Phí bảo trì 2% | G8: TPB giải ngân | H8: Khách hàng nộp
B9: Đặt cọc | C9: Đặt cọc: 100 triệu: 1PN; 1PN +; 2PN; 2PN+ 200 triệu căn 3PN 300 triệu căn 3PN+ | E9: 100000000 | H9: =E9 -> 100000000
B10: Đợt 1 | C10: Ngay khi ký HĐMB, trong vòng 7 ngày kể từ ngày giữ chỗ | D10: 0.3 | E10: =D10*$D$5-E9 -> 800000000 | G10: =(E10+E9)*C6 -> 675000000 | H10: =E10-G10 -> 125000000
B11: Đợt 2 | C11: Thanh toán 10% khi hoàn thành tầng 10 | D11: 0.1 | E11: =D11*$D$5 -> 300000000 | G11: =E11*$C$6 -> 225000000 | H11: =E11-G11 -> 75000000
B12: Đợt 3 | C12: Thanh toán 10% khi hoàn thành tầng 15 | D12: 0.1 | E12: =D12*$D$5 -> 300000000 | G12: =E12*$C$6 -> 225000000 | H12: =E12-G12 -> 75000000
B13: Đợt 4 | C13: Thanh toán 10% khi hoàn thành tầng 20 | D13: 0.1 | E13: =D13*$D$5 -> 300000000 | G13: =E13*$C$6 -> 225000000 | H13: =E13-G13 -> 75000000
B14: Đợt 5 | C14: Thanh toán 10% khi cất nóc | D14: 0.1 | E14: =D14*$D$5 -> 300000000 | G14: =E14*$C$6 -> 225000000 | H14: =E14-G14 -> 75000000
B15: Đợt 6 | C15: Thanh toán 25% trong vòng 7 ngày kể từ ngày nhận bàn giao căn hộ | D15: 0.25 | E15: =D15*$D$5 -> 750000000 | F15: chưa tính phí bảo trì | G15: =E15*$C$6 -> 562500000 | H15: =E15-G15 -> 187500000
B16: Đợt 7 | C16: Thanh toán 5% khi có thông báo nhận GCN | D16: 0.05 | E16: =D16*$D$5 -> 150000000 | G16: =E16*$C$6 -> 112500000 | H16: =E16-G16 -> 37500000
D17: Tổng thanh toán | E17: =SUM(E9:E16) -> 3000000000 | G17: =SUM(G10:G16) -> 2250000000 | H17: =SUM(H9:H16) -> 750000000

Sheet TPB 35 năm
A1: THỜI GIAN VAY | B1: 420 | C1: THÁNG
A2: SỐ TIỀN VAY | B2: ='Tiến độ giải ngân'!G17 -> 2250000000 | C2: VND
A3: LÃI SUẤT KỲ ĐẦU | B3: 0.065
A4: THỜI GIAN ƯU ĐÃI | B4: 12 | C4: tháng
A5: LÃI SUẤT ĐIỀU CHỈNH | B5: 0.108
A7: Số kỳ | B7: Gốc giảm dần | C7: Tiền gốc tháng | D7: Tiền lãi tháng | E7: Tiền gốc+ lãi
A8: 1 | B8: ='Tiến độ giải ngân'!G10 -> 675000000 | C8: =$B$8/($B$1) -> 1607142.9 | D8: =IF(A8<=$B$4,B8*$B$3/12,B8*$B$5/12) -> 3656250 | E8: =SUM(C8+D8) -> 5263392.9 | F8: GN đầu tiên
A9: 2 | B9: =B8-C8 -> 6.7339286e+08 | C9: =$B$8/($B$1) -> 1607142.9 | D9: =IF(A9<=$B$4,B9*$B$3/12,B9*$B$5/12) -> 3647544.6 | E9: =SUM(C9+D9) -> 5254687.5
A10: 3 | B10: =B9-C9 -> 6.7178571e+08 | C10: =$B$8/($B$1) -> 1607142.9 | D10: =IF(A10<=$B$4,B10*$B$3/12,B10*$B$5/12) -> 3638839.3 | E10: =SUM(C10+D10) -> 5245982.1
A11: 4 | B11: =B10-C10 -> 6.7017857e+08 | C11: =$B$8/($B$1) -> 1607142.9 | D11: =IF(A11<=$B$4,B11*$B$3/12,B11*$B$5/12) -> 3630133.9 | E11: =SUM(C11+D11) -> 5237276.8
A12: 5 | B12: =B11-C11 -> 6.6857143e+08 | C12: =$B$8/($B$1) -> 1607142.9 | D12: =IF(A12<=$B$4,B12*$B$3/12,B12*$B$5/12) -> 3621428.6 | E12: =SUM(C12+D12) -> 5228571.4
A13: 6 | B13: =B12-C12+'Tiến độ giải ngân'!G11 -> 8.9196429e+08 | C13: =$B$13/($B$1-5) -> 2149311.5 | D13: =IF(A13<=$B$4,B13*$B$3/12,B13*$B$5/12) -> 4831473.2 | E13: =SUM(C13+D13) -> 6980784.7 | F13: GN đợt 2
A14: 7 | B14: =B13-C13 -> 8.8981497e+08 | C14: =$B$14/($B$1-6) -> 2149311.5 | D14: =IF(A14<=$B$4,B14*$B$3/12,B14*$B$5/12) -> 4819831.1 | E14: =SUM(C14+D14) -> 6969142.6
A15: 8 | B15: =B14-C14+'Tiến độ giải ngân'!G12 -> 1.1126657e+09 | C15: =$B$15/($B$1-7) -> 2694105.7 | D15: =IF(A15<=$B$4,B15*$B$3/12,B15*$B$5/12) -> 6026939 | E15: =SUM(C15+D15) -> 8721044.7 | F15: GN đợt 3
A16: 9 | B16: =B15-C15 -> 1.1099716e+09 | C16: =$B$16/($B$1-8) -> 2694105.7 | D16: =IF(A16<=$B$4,B16*$B$3/12,B16*$B$5/12) -> 6012345.9 | E16: =SUM(C16+D16) -> 8706451.7
A17: 10 | B17: =B16-C16+'Tiến độ giải ngân'!G13 -> 1.3322775e+09 | C17: =$B$17/($B$1-9) -> 3241551 | D17: =IF(A17<=$B$4,B17*$B$3/12,B17*$B$5/12) -> 7216502.9 | E17: =SUM(C17+D17) -> 10458054 | F17: GN đợt 4
A18: 11 | B18: =B17-C17 -> 1.3290359e+09 | C18: =$B$17/($B$1-9) -> 3241551 | D18: =IF(A18<=$B$4,B18*$B$3/12,B18*$B$5/12) -> 7198944.5 | E18: =SUM(C18+D18) -> 10440495
A19: 12 | B19: =B18-C18+'Tiến độ giải ngân'!G14 -> 1.5507943e+09 | C19: =$B$19/($B$1-11) -> 3791673.2 | D19: =IF(A19<=$B$4,B19*$B$3/12,B19*$B$5/12) -> 8400136.1 | E19: =SUM(C19+D19) -> 12191809 | F19: GN đợt 5
A20: 13 | B20: =B19-C19 -> 1.5470027e+09 | C20: =$B$19/($B$1-11) -> 3791673.2 | D20: =IF(A20<=$B$4,B20*$B$3/12,B20*$B$5/12) -> 13923024 | E20: =SUM(C20+D20) -> 17714697
A21: 14 | B21: =B20-C20 -> 1.543211e+09 | C21: =$B$19/($B$1-11) -> 3791673.2 | D21: =IF(A21<=$B$4,B21*$B$3/12,B21*$B$5/12) -> 13888899 | E21: =SUM(C21+D21) -> 17680572
A22: 15 | B22: =B21-C21 -> 1.5394193e+09 | C22: =$B$19/($B$1-11) -> 3791673.2 | D22: =IF(A22<=$B$4,B22*$B$3/12,B22*$B$5/12) -> 13854774 | E22: =SUM(C22+D22) -> 17646447
A23: 16 | B23: =B22-C22 -> 1.5356277e+09 | C23: =$B$19/($B$1-11) -> 3791673.2 | D23: =IF(A23<=$B$4,B23*$B$3/12,B23*$B$5/12) -> 13820649 | E23: =SUM(C23+D23) -> 17612322
A24: 17 | B24: =B23-C23 -> 1.531836e+09 | C24: =$B$19/($B$1-11) -> 3791673.2 | D24: =IF(A24<=$B$4,B24*$B$3/12,B24*$B$5/12) -> 13786524 | E24: =SUM(C24+D24) -> 17578197
A25: 18 | B25: =B24-C24+'Tiến độ giải ngân'!G15 -> 2.0905443e+09 | C25: =$B$25/($B$1-17) -> 5187454.9 | D25: =IF(A25<=$B$4,B25*$B$3/12,B25*$B$5/12) -> 18814899 | E25: =SUM(C25+D25) -> 24002354 | F25: GN bàn giao nhà
A26: 19 | B26: =B25-C25 -> 2.0853569e+09 | C26: =$B$25/($B$1-17) -> 5187454.9 | D26: =IF(A26<=$B$4,B26*$B$3/12,B26*$B$5/12) -> 18768212 | E26: =SUM(C26+D26) -> 23955667
A27: 20 | B27: =B26-C26 -> 2.0801694e+09 | C27: =$B$25/($B$1-17) -> 5187454.9 | D27: =IF(A27<=$B$4,B27*$B$3/12,B27*$B$5/12) -> 18721525 | E27: =SUM(C27+D27) -> 23908979
A28: 21 | B28: =B27-C27 -> 2.0749819e+09 | C28: =$B$25/($B$1-17) -> 5187454.9 | D28: =IF(A28<=$B$4,B28*$B$3/12,B28*$B$5/12) -> 18674838 | E28: =SUM(C28+D28) -> 23862292
A29: 22 | B29: =B28-C28 -> 2.0697945e+09 | C29: =$B$25/($B$1-17) -> 5187454.9 | D29: =IF(A29<=$B$4,B29*$B$3/12,B29*$B$5/12) -> 18628150 | E29: =SUM(C29+D29) -> 23815605
A30: 23 | B30: =B29-C29 -> 2.064607e+09 | C30: =$B$25/($B$1-17) -> 5187454.9 | D30: =IF(A30<=$B$4,B30*$B$3/12,B30*$B$5/12) -> 18581463 | E30: =SUM(C30+D30) -> 23768918
A31: 24 | B31: =B30-C30+'Tiến độ giải ngân'!G16 -> 2.1719196e+09 | C31: =$B$31/(B$1-23) -> 5470830.2 | D31: =IF(A31<=$B$4,B31*$B$3/12,B31*$B$5/12) -> 19547276 | E31: =SUM(C31+D31) -> 25018106 | F31: GN nhận GCN
A32: 25 | B32: =B31-C31 -> 2.1664488e+09 | C32: =$B$31/(B$1-23) -> 5470830.2 | D32: =IF(A32<=$B$4,B32*$B$3/12,B32*$B$5/12) -> 19498039 | E32: =SUM(C32+D32) -> 24968869
A33: 26 | B33: =B32-C32 -> 2.1609779e+09 | C33: =$B$31/(B$1-23) -> 5470830.2 | D33: =IF(A33<=$B$4,B33*$B$3/12,B33*$B$5/12) -> 19448801 | E33: =SUM(C33+D33) -> 24919631
A34: 27 | B34: =B33-C33 -> 2.1555071e+09 | C34: =$B$31/(B$1-23) -> 5470830.2 | D34: =IF(A34<=$B$4,B34*$B$3/12,B34*$B$5/12) -> 19399564 | E34: =SUM(C34+D34) -> 24870394
A35: 28 | B35: =B34-C34 -> 2.1500363e+09 | C35: =$B$31/(B$1-23) -> 5470830.2 | D35: =IF(A35<=$B$4,B35*$B$3/12,B35*$B$5/12) -> 19350326 | E35: =SUM(C35+D35) -> 24821157
A36: 29 | B36: =B35-C35 -> 2.1445654e+09 | C36: =$B$31/(B$1-23) -> 5470830.2 | D36: =IF(A36<=$B$4,B36*$B$3/12,B36*$B$5/12) -> 19301089 | E36: =SUM(C36+D36) -> 24771919
A37: 30 | B37: =B36-C36 -> 2.1390946e+09 | C37: =$B$31/(B$1-23) -> 5470830.2 | D37: =IF(A37<=$B$4,B37*$B$3/12,B37*$B$5/12) -> 19251851 | E37: =SUM(C37+D37) -> 24722682
A38: 31 | B38: =B37-C37 -> 2.1336238e+09 | C38: =$B$31/(B$1-23) -> 5470830.2 | D38: =IF(A38<=$B$4,B38*$B$3/12,B38*$B$5/12) -> 19202614 | E38: =SUM(C38+D38) -> 24673444
A39: 32 | B39: =B38-C38 -> 2.1281529e+09 | C39: =$B$31/(B$1-23) -> 5470830.2 | D39: =IF(A39<=$B$4,B39*$B$3/12,B39*$B$5/12) -> 19153376 | E39: =SUM(C39+D39) -> 24624207
A40: 33 | B40: =B39-C39 -> 2.1226821e+09 | C40: =$B$31/(B$1-23) -> 5470830.2 | D40: =IF(A40<=$B$4,B40*$B$3/12,B40*$B$5/12) -> 19104139 | E40: =SUM(C40+D40) -> 24574969
A41: 34 | B41: =B40-C40 -> 2.1172113e+09 | C41: =$B$31/(B$1-23) -> 5470830.2 | D41: =IF(A41<=$B$4,B41*$B$3/12,B41*$B$5/12) -> 19054902 | E41: =SUM(C41+D41) -> 24525732
...

Sheet TPB 30 năm
A1: THỜI GIAN VAY | B1: 360 | C1: THÁNG
A2: SỐ TIỀN VAY | B2: ='Tiến độ giải ngân'!G17 -> 2250000000 | C2: VND
A3: LÃI SUẤT KỲ ĐẦU | B3: 0.065
A4: THỜI GIAN ƯU ĐÃI | B4: 12 | C4: tháng
A5: LÃI SUẤT ĐIỀU CHỈNH | B5: 0.108
A7: Số kỳ | B7: Gốc giảm dần | C7: Tiền gốc tháng | D7: Tiền lãi tháng | E7: Tiền gốc+ lãi
A8: 1 | B8: ='Tiến độ giải ngân'!G10 -> 675000000 | C8: =$B$8/($B$1) -> 1875000 | D8: =IF(A8<=$B$4,B8*$B$3/12,B8*$B$5/12) -> 3656250 | E8: =SUM(C8+D8) -> 5531250 | F8: GN đầu tiên
A9: 2 | B9: =B8-C8 -> 673125000 | C9: =$B$8/($B$1) -> 1875000 | D9: =IF(A9<=$B$4,B9*$B$3/12,B9*$B$5/12) -> 3646093.8 | E9: =SUM(C9+D9) -> 5521093.8
A10: 3 | B10: =B9-C9 -> 671250000 | C10: =$B$8/($B$1) -> 1875000 | D10: =IF(A10<=$B$4,B10*$B$3/12,B10*$B$5/12) -> 3635937.5 | E10: =SUM(C10+D10) -> 5510937.5
A11: 4 | B11: =B10-C10 -> 669375000 | C11: =$B$8/($B$1) -> 1875000 | D11: =IF(A11<=$B$4,B11*$B$3/12,B11*$B$5/12) -> 3625781.2 | E11: =SUM(C11+D11) -> 5500781.2
A12: 5 | B12: =B11-C11 -> 667500000 | C12: =$B$8/($B$1) -> 1875000 | D12: =IF(A12<=$B$4,B12*$B$3/12,B12*$B$5/12) -> 3615625 | E12: =SUM(C12+D12) -> 5490625
A13: 6 | B13: =B12-C12+'Tiến độ giải ngân'!G11 -> 890625000 | C13: =$B$13/($B$1-5) -> 2508802.8 | D13: =IF(A13<=$B$4,B13*$B$3/12,B13*$B$5/12) -> 4824218.8 | E13: =SUM(C13+D13) -> 7333021.6 | F13: GN đợt 2
A14: 7 | B14: =B13-C13 -> 8.881162e+08 | C14: =$B$14/($B$1-6) -> 2508802.8 | D14: =IF(A14<=$B$4,B14*$B$3/12,B14*$B$5/12) -> 4810629.4 | E14: =SUM(C14+D14) -> 7319432.2
A15: 8 | B15: =B14-C14+'Tiến độ giải ngân'!G12 -> 1.1106074e+09 | C15: =$B$15/($B$1-7) -> 3146196.6 | D15: =IF(A15<=$B$4,B15*$B$3/12,B15*$B$5/12) -> 6015790.1 | E15: =SUM(C15+D15) -> 9161986.6 | F15: GN đợt 3
A16: 9 | B16: =B15-C15 -> 1.1074612e+09 | C16: =$B$16/($B$1-8) -> 3146196.6 | D16: =IF(A16<=$B$4,B16*$B$3/12,B16*$B$5/12) -> 5998748.2 | E16: =SUM(C16+D16) -> 9144944.7
A17: 10 | B17: =B16-C16+'Tiến độ giải ngân'!G13 -> 1.329315e+09 | C17: =$B$17/($B$1-9) -> 3787222.2 | D17: =IF(A17<=$B$4,B17*$B$3/12,B17*$B$5/12) -> 7200456.3 | E17: =SUM(C17+D17) -> 10987678 | F17: GN đợt 4
A18: 11 | B18: =B17-C17 -> 1.3255278e+09 | C18: =$B$17/($B$1-9) -> 3787222.2 | D18: =IF(A18<=$B$4,B18*$B$3/12,B18*$B$5/12) -> 7179942.1 | E18: =SUM(C18+D18) -> 10967164
A19: 12 | B19: =B18-C18+'Tiến độ giải ngân'!G14 -> 1.5467406e+09 | C19: =$B$19/($B$1-11) -> 4431921.4 | D19: =IF(A19<=$B$4,B19*$B$3/12,B19*$B$5/12) -> 8378178 | E19: =SUM(C19+D19) -> 12810099 | F19: GN đợt 5
A20: 13 | B20: =B19-C19 -> 1.5423086e+09 | C20: =$B$19/($B$1-11) -> 4431921.4 | D20: =IF(A20<=$B$4,B20*$B$3/12,B20*$B$5/12) -> 13880778 | E20: =SUM(C20+D20) -> 18312699
A21: 14 | B21: =B20-C20 -> 1.5378767e+09 | C21: =$B$19/($B$1-11) -> 4431921.4 | D21: =IF(A21<=$B$4,B21*$B$3/12,B21*$B$5/12) -> 13840890 | E21: =SUM(C21+D21) -> 18272812
A22: 15 | B22: =B21-C21 -> 1.5334448e+09 | C22: =$B$19/($B$1-11) -> 4431921.4 | D22: =IF(A22<=$B$4,B22*$B$3/12,B22*$B$5/12) -> 13801003 | E22: =SUM(C22+D22) -> 18232924
A23: 16 | B23: =B22-C22 -> 1.5290129e+09 | C23: =$B$19/($B$1-11) -> 4431921.4 | D23: =IF(A23<=$B$4,B23*$B$3/12,B23*$B$5/12) -> 13761116 | E23: =SUM(C23+D23) -> 18193037
A24: 17 | B24: =B23-C23 -> 1.5245809e+09 | C24: =$B$19/($B$1-11) -> 4431921.4 | D24: =IF(A24<=$B$4,B24*$B$3/12,B24*$B$5/12) -> 13721229 | E24: =SUM(C24+D24) -> 18153150
A25: 18 | B25: =B24-C24+'Tiến độ giải ngân'!G15 -> 2.082649e+09 | C25: =$B$25/($B$1-17) -> 6071863.1 | D25: =IF(A25<=$B$4,B25*$B$3/12,B25*$B$5/12) -> 18743841 | E25: =SUM(C25+D25) -> 24815704 | F25: GN bàn giao nhà
A26: 19 | B26: =B25-C25 -> 2.0765772e+09 | C26: =$B$25/($B$1-17) -> 6071863.1 | D26: =IF(A26<=$B$4,B26*$B$3/12,B26*$B$5/12) -> 18689194 | E26: =SUM(C26+D26) -> 24761058
A27: 20 | B27: =B26-C26 -> 2.0705053e+09 | C27: =$B$25/($B$1-17) -> 6071863.1 | D27: =IF(A27<=$B$4,B27*$B$3/12,B27*$B$5/12) -> 18634548 | E27: =SUM(C27+D27) -> 24706411
A28: 21 | B28: =B27-C27 -> 2.0644334e+09 | C28: =$B$25/($B$1-17) -> 6071863.1 | D28: =IF(A28<=$B$4,B28*$B$3/12,B28*$B$5/12) -> 18579901 | E28: =SUM(C28+D28) -> 24651764
A29: 22 | B29: =B28-C28 -> 2.0583616e+09 | C29: =$B$25/($B$1-17) -> 6071863.1 | D29: =IF(A29<=$B$4,B29*$B$3/12,B29*$B$5/12) -> 18525254 | E29: =SUM(C29+D29) -> 24597117
A30: 23 | B30: =B29-C29 -> 2.0522897e+09 | C30: =$B$25/($B$1-17) -> 6071863.1 | D30: =IF(A30<=$B$4,B30*$B$3/12,B30*$B$5/12) -> 18470607 | E30: =SUM(C30+D30) -> 24542470
A31: 24 | B31: =B30-C30+'Tiến độ giải ngân'!G16 -> 2.1587179e+09 | C31: =$B$31/(B$1-23) -> 6405691 | D31: =IF(A31<=$B$4,B31*$B$3/12,B31*$B$5/12) -> 19428461 | E31: =SUM(C31+D31) -> 25834152 | F31: GN nhận GCN
A32: 25 | B32: =B31-C31 -> 2.1523122e+09 | C32: =$B$31/(B$1-23) -> 6405691 | D32: =IF(A32<=$B$4,B32*$B$3/12,B32*$B$5/12) -> 19370809 | E32: =SUM(C32+D32) -> 25776500
A33: 26 | B33: =B32-C32 -> 2.1459065e+09 | C33: =$B$31/(B$1-23) -> 6405691 | D33: =IF(A33<=$B$4,B33*$B$3/12,B33*$B$5/12) -> 19313158 | E33: =SUM(C33+D33) -> 25718849
A34: 27 | B34: =B33-C33 -> 2.1395008e+09 | C34: =$B$31/(B$1-23) -> 6405691 | D34: =IF(A34<=$B$4,B34*$B$3/12,B34*$B$5/12) -> 19255507 | E34: =SUM(C34+D34) -> 25661198
A35: 28 | B35: =B34-C34 -> 2.1330951e+09 | C35: =$B$31/(B$1-23) -> 6405691 | D35: =IF(A35<=$B$4,B35*$B$3/12,B35*$B$5/12) -> 19197856 | E35: =SUM(C35+D35) -> 25603547
A36: 29 | B36: =B35-C35 -> 2.1266894e+09 | C36: =$B$31/(B$1-23) -> 6405691 | D36: =IF(A36<=$B$4,B36*$B$3/12,B36*$B$5/12) -> 19140205 | E36: =SUM(C36+D36) -> 25545896
A37: 30 | B37: =B36-C36 -> 2.1202837e+09 | C37: =$B$31/(B$1-23) -> 6405691 | D37: =IF(A37<=$B$4,B37*$B$3/12,B37*$B$5/12) -> 19082553 | E37: =SUM(C37+D37) -> 25488244
A38: 31 | B38: =B37-C37 -> 2.113878e+09 | C38: =$B$31/(B$1-23) -> 6405691 | D38: =IF(A38<=$B$4,B38*$B$3/12,B38*$B$5/12) -> 19024902 | E38: =SUM(C38+D38) -> 25430593
A39: 32 | B39: =B38-C38 -> 2.1074723e+09 | C39: =$B$31/(B$1-23) -> 6405691 | D39: =IF(A39<=$B$4,B39*$B$3/12,B39*$B$5/12) -> 18967251 | E39: =SUM(C39+D39) -> 25372942
A40: 33 | B40: =B39-C39 -> 2.1010666e+09 | C40: =$B$31/(B$1-23) -> 6405691 | D40: =IF(A40<=$B$4,B40*$B$3/12,B40*$B$5/12) -> 18909600 | E40: =SUM(C40+D40) -> 25315291
A41: 34 | B41: =B40-C40 -> 2.0946609e+09 | C41: =$B$31/(B$1-23) -> 6405691 | D41: =IF(A41<=$B$4,B41*$B$3/12,B41*$B$5/12) -> 18851948 | E41: =SUM(C41+D41) -> 25257639
...

Sheet TPB 25 năm
A1: THỜI GIAN VAY | B1: 300 | C1: THÁNG
A2: SỐ TIỀN VAY | B2: ='Tiến độ giải ngân'!G17 -> 2250000000 | C2: VND
A3: LÃI SUẤT KỲ ĐẦU | B3: 0.065
A4: THỜI GIAN ƯU ĐÃI | B4: 12 | C4: tháng
A5: LÃI SUẤT ĐIỀU CHỈNH | B5: 0.108
A7: Số kỳ | B7: Gốc giảm dần | C7: Tiền gốc tháng | D7: Tiền lãi tháng | E7: Tiền gốc+ lãi
A8: 1 | B8: ='Tiến độ giải ngân'!G10 -> 675000000 | C8: =$B$8/($B$1) -> 2250000 | D8: =IF(A8<=$B$4,B8*$B$3/12,B8*$B$5/12) -> 3656250 | E8: =SUM(C8+D8) -> 5906250 | F8: GN đầu tiên
A9: 2 | B9: =B8-C8 -> 672750000 | C9: =$B$8/($B$1) -> 2250000 | D9: =IF(A9<=$B$4,B9*$B$3/12,B9*$B$5/12) -> 3644062.5 | E9: =SUM(C9+D9) -> 5894062.5
A10: 3 | B10: =B9-C9 -> 670500000 | C10: =$B$8/($B$1) -> 2250000 | D10: =IF(A10<=$B$4,B10*$B$3/12,B10*$B$5/12) -> 3631875 | E10: =SUM(C10+D10) -> 5881875
A11: 4 | B11: =B10-C10 -> 668250000 | C11: =$B$8/($B$1) -> 2250000 | D11: =IF(A11<=$B$4,B11*$B$3/12,B11*$B$5/12) -> 3619687.5 | E11: =SUM(C11+D11) -> 5869687.5
A12: 5 | B12: =B11-C11 -> 666000000 | C12: =$B$8/($B$1) -> 2250000 | D12: =IF(A12<=$B$4,B12*$B$3/12,B12*$B$5/12) -> 3607500 | E12: =SUM(C12+D12) -> 5857500
A13: 6 | B13: =B12-C12+'Tiến độ giải ngân'!G11 -> 888750000 | C13: =$B$13/($B$1-5) -> 3012711.9 | D13: =IF(A13<=$B$4,B13*$B$3/12,B13*$B$5/12) -> 4814062.5 | E13: =SUM(C13+D13) -> 7826774.4 | F13: GN đợt 2
A14: 7 | B14: =B13-C13 -> 8.8573729e+08 | C14: =$B$14/($B$1-6) -> 3012711.9 | D14: =IF(A14<=$B$4,B14*$B$3/12,B14*$B$5/12) -> 4797743.6 | E14: =SUM(C14+D14) -> 7810455.5
A15: 8 | B15: =B14-C14+'Tiến độ giải ngân'!G12 -> 1.1077246e+09 | C15: =$B$15/($B$1-7) -> 3780630 | D15: =IF(A15<=$B$4,B15*$B$3/12,B15*$B$5/12) -> 6000174.8 | E15: =SUM(C15+D15) -> 9780804.7 | F15: GN đợt 3
A16: 9 | B16: =B15-C15 -> 1.1039439e+09 | C16: =$B$16/($B$1-8) -> 3780630 | D16: =IF(A16<=$B$4,B16*$B$3/12,B16*$B$5/12) -> 5979696.4 | E16: =SUM(C16+D16) -> 9760326.3
A17: 10 | B17: =B16-C16+'Tiến độ giải ngân'!G13 -> 1.3251633e+09 | C17: =$B$17/($B$1-9) -> 4553825.8 | D17: =IF(A17<=$B$4,B17*$B$3/12,B17*$B$5/12) -> 7177968 | E17: =SUM(C17+D17) -> 11731794 | F17: GN đợt 4
A18: 11 | B18: =B17-C17 -> 1.3206095e+09 | C18: =$B$17/($B$1-9) -> 4553825.8 | D18: =IF(A18<=$B$4,B18*$B$3/12,B18*$B$5/12) -> 7153301.4 | E18: =SUM(C18+D18) -> 11707127
A19: 12 | B19: =B18-C18+'Tiến độ giải ngân'!G14 -> 1.5410557e+09 | C19: =$B$19/($B$1-11) -> 5332372.5 | D19: =IF(A19<=$B$4,B19*$B$3/12,B19*$B$5/12) -> 8347384.9 | E19: =SUM(C19+D19) -> 13679757 | F19: GN đợt 5
A20: 13 | B20: =B19-C19 -> 1.5357233e+09 | C20: =$B$19/($B$1-11) -> 5332372.5 | D20: =IF(A20<=$B$4,B20*$B$3/12,B20*$B$5/12) -> 13821510 | E20: =SUM(C20+D20) -> 19153882
A21: 14 | B21: =B20-C20 -> 1.5303909e+09 | C21: =$B$19/($B$1-11) -> 5332372.5 | D21: =IF(A21<=$B$4,B21*$B$3/12,B21*$B$5/12) -> 13773518 | E21: =SUM(C21+D21) -> 19105891
A22: 15 | B22: =B21-C21 -> 1.5250585e+09 | C22: =$B$19/($B$1-11) -> 5332372.5 | D22: =IF(A22<=$B$4,B22*$B$3/12,B22*$B$5/12) -> 13725527 | E22: =SUM(C22+D22) -> 19057899
A23: 16 | B23: =B22-C22 -> 1.5197262e+09 | C23: =$B$19/($B$1-11) -> 5332372.5 | D23: =IF(A23<=$B$4,B23*$B$3/12,B23*$B$5/12) -> 13677536 | E23: =SUM(C23+D23) -> 19009908
A24: 17 | B24: =B23-C23 -> 1.5143938e+09 | C24: =$B$19/($B$1-11) -> 5332372.5 | D24: =IF(A24<=$B$4,B24*$B$3/12,B24*$B$5/12) -> 13629544 | E24: =SUM(C24+D24) -> 18961917
A25: 18 | B25: =B24-C24+'Tiến độ giải ngân'!G15 -> 2.0715614e+09 | C25: =$B$25/($B$1-17) -> 7320005.1 | D25: =IF(A25<=$B$4,B25*$B$3/12,B25*$B$5/12) -> 18644053 | E25: =SUM(C25+D25) -> 25964058 | F25: GN bàn giao nhà
A26: 19 | B26: =B25-C25 -> 2.0642414e+09 | C26: =$B$25/($B$1-17) -> 7320005.1 | D26: =IF(A26<=$B$4,B26*$B$3/12,B26*$B$5/12) -> 18578173 | E26: =SUM(C26+D26) -> 25898178
A27: 20 | B27: =B26-C26 -> 2.0569214e+09 | C27: =$B$25/($B$1-17) -> 7320005.1 | D27: =IF(A27<=$B$4,B27*$B$3/12,B27*$B$5/12) -> 18512293 | E27: =SUM(C27+D27) -> 25832298
A28: 21 | B28: =B27-C27 -> 2.0496014e+09 | C28: =$B$25/($B$1-17) -> 7320005.1 | D28: =IF(A28<=$B$4,B28*$B$3/12,B28*$B$5/12) -> 18446413 | E28: =SUM(C28+D28) -> 25766418
A29: 22 | B29: =B28-C28 -> 2.0422814e+09 | C29: =$B$25/($B$1-17) -> 7320005.1 | D29: =IF(A29<=$B$4,B29*$B$3/12,B29*$B$5/12) -> 18380533 | E29: =SUM(C29+D29) -> 25700538
A30: 23 | B30: =B29-C29 -> 2.0349614e+09 | C30: =$B$25/($B$1-17) -> 7320005.1 | D30: =IF(A30<=$B$4,B30*$B$3/12,B30*$B$5/12) -> 18314653 | E30: =SUM(C30+D30) -> 25634658
A31: 24 | B31: =B30-C30+'Tiến độ giải ngân'!G16 -> 2.1401414e+09 | C31: =$B$31/(B$1-23) -> 7726142.2 | D31: =IF(A31<=$B$4,B31*$B$3/12,B31*$B$5/12) -> 19261273 | E31: =SUM(C31+D31) -> 26987415 | F31: GN nhận GCN
A32: 25 | B32: =B31-C31 -> 2.1324153e+09 | C32: =$B$31/(B$1-23) -> 7726142.2 | D32: =IF(A32<=$B$4,B32*$B$3/12,B32*$B$5/12) -> 19191737 | E32: =SUM(C32+D32) -> 26917880
A33: 26 | B33: =B32-C32 -> 2.1246891e+09 | C33: =$B$31/(B$1-23) -> 7726142.2 | D33: =IF(A33<=$B$4,B33*$B$3/12,B33*$B$5/12) -> 19122202 | E33: =SUM(C33+D33) -> 26848344
A34: 27 | B34: =B33-C33 -> 2.116963e+09 | C34: =$B$31/(B$1-23) -> 7726142.2 | D34: =IF(A34<=$B$4,B34*$B$3/12,B34*$B$5/12) -> 19052667 | E34: =SUM(C34+D34) -> 26778809
A35: 28 | B35: =B34-C34 -> 2.1092368e+09 | C35: =$B$31/(B$1-23) -> 7726142.2 | D35: =IF(A35<=$B$4,B35*$B$3/12,B35*$B$5/12) -> 18983131 | E35: =SUM(C35+D35) -> 26709274
A36: 29 | B36: =B35-C35 -> 2.1015107e+09 | C36: =$B$31/(B$1-23) -> 7726142.2 | D36: =IF(A36<=$B$4,B36*$B$3/12,B36*$B$5/12) -> 18913596 | E36: =SUM(C36+D36) -> 26639738
A37: 30 | B37: =B36-C36 -> 2.0937845e+09 | C37: =$B$31/(B$1-23) -> 7726142.2 | D37: =IF(A37<=$B$4,B37*$B$3/12,B37*$B$5/12) -> 18844061 | E37: =SUM(C37+D37) -> 26570203
A38: 31 | B38: =B37-C37 -> 2.0860584e+09 | C38: =$B$31/(B$1-23) -> 7726142.2 | D38: =IF(A38<=$B$4,B38*$B$3/12,B38*$B$5/12) -> 18774526 | E38: =SUM(C38+D38) -> 26500668
A39: 32 | B39: =B38-C38 -> 2.0783323e+09 | C39: =$B$31/(B$1-23) -> 7726142.2 | D39: =IF(A39<=$B$4,B39*$B$3/12,B39*$B$5/12) -> 18704990 | E39: =SUM(C39+D39) -> 26431133
A40: 33 | B40: =B39-C39 -> 2.0706061e+09 | C40: =$B$31/(B$1-23) -> 7726142.2 | D40: =IF(A40<=$B$4,B40*$B$3/12,B40*$B$5/12) -> 18635455 | E40: =SUM(C40+D40) -> 26361597
A41: 34 | B41: =B40-C40 -> 2.06288e+09 | C41: =$B$31/(B$1-23) -> 7726142.2 | D41: =IF(A41<=$B$4,B41*$B$3/12,B41*$B$5/12) -> 18565920 | E41: =SUM(C41+D41) -> 26292062
...

Sheet TPB 20 năm
A1: THỜI GIAN VAY | B1: 240 | C1: THÁNG
A2: SỐ TIỀN VAY | B2: ='Tiến độ giải ngân'!G17 -> 2250000000 | C2: VND
A3: LÃI SUẤT KỲ ĐẦU | B3: 0.065
A4: THỜI GIAN ƯU ĐÃI | B4: 12 | C4: tháng
A5: LÃI SUẤT ĐIỀU CHỈNH | B5: 0.108
A7: Số kỳ | B7: Gốc giảm dần | C7: Tiền gốc tháng | D7: Tiền lãi tháng | E7: Tiền gốc+ lãi
A8: 1 | B8: ='Tiến độ giải ngân'!G10 -> 675000000 | C8: =$B$8/($B$1) -> 2812500 | D8: =IF(A8<=$B$4,B8*$B$3/12,B8*$B$5/12) -> 3656250 | E8: =SUM(C8+D8) -> 6468750 | F8: GN đầu tiên
A9: 2 | B9: =B8-C8 -> 672187500 | C9: =$B$8/($B$1) -> 2812500 | D9: =IF(A9<=$B$4,B9*$B$3/12,B9*$B$5/12) -> 3641015.6 | E9: =SUM(C9+D9) -> 6453515.6
A10: 3 | B10: =B9-C9 -> 669375000 | C10: =$B$8/($B$1) -> 2812500 | D10: =IF(A10<=$B$4,B10*$B$3/12,B10*$B$5/12) -> 3625781.2 | E10: =SUM(C10+D10) -> 6438281.2
A11: 4 | B11: =B10-C10 -> 666562500 | C11: =$B$8/($B$1) -> 2812500 | D11: =IF(A11<=$B$4,B11*$B$3/12,B11*$B$5/12) -> 3610546.9 | E11: =SUM(C11+D11) -> 6423046.9
A12: 5 | B12: =B11-C11 -> 663750000 | C12: =$B$8/($B$1) -> 2812500 | D12: =IF(A12<=$B$4,B12*$B$3/12,B12*$B$5/12) -> 3595312.5 | E12: =SUM(C12+D12) -> 6407812.5
A13: 6 | B13: =B12-C12+'Tiến độ giải ngân'!G11 -> 885937500 | C13: =$B$13/($B$1-5) -> 3769946.8 | D13: =IF(A13<=$B$4,B13*$B$3/12,B13*$B$5/12) -> 4798828.1 | E13: =SUM(C13+D13) -> 8568774.9 | F13: GN đợt 2
A14: 7 | B14: =B13-C13 -> 8.8216755e+08 | C14: =$B$14/($B$1-6) -> 3769946.8 | D14: =IF(A14<=$B$4,B14*$B$3/12,B14*$B$5/12) -> 4778407.6 | E14: =SUM(C14+D14) -> 8548354.4
A15: 8 | B15: =B14-C14+'Tiến độ giải ngân'!G12 -> 1.1033976e+09 | C15: =$B$15/($B$1-7) -> 4735612 | D15: =IF(A15<=$B$4,B15*$B$3/12,B15*$B$5/12) -> 5976737 | E15: =SUM(C15+D15) -> 10712349 | F15: GN đợt 3
A16: 9 | B16: =B15-C15 -> 1.098662e+09 | C16: =$B$16/($B$1-8) -> 4735612 | D16: =IF(A16<=$B$4,B16*$B$3/12,B16*$B$5/12) -> 5951085.8 | E16: =SUM(C16+D16) -> 10686698
A17: 10 | B17: =B16-C16+'Tiến độ giải ngân'!G13 -> 1.3189264e+09 | C17: =$B$17/($B$1-9) -> 5709638 | D17: =IF(A17<=$B$4,B17*$B$3/12,B17*$B$5/12) -> 7144184.6 | E17: =SUM(C17+D17) -> 12853823 | F17: GN đợt 4
A18: 11 | B18: =B17-C17 -> 1.3132167e+09 | C18: =$B$17/($B$1-9) -> 5709638 | D18: =IF(A18<=$B$4,B18*$B$3/12,B18*$B$5/12) -> 7113257.4 | E18: =SUM(C18+D18) -> 12822895
A19: 12 | B19: =B18-C18+'Tiến độ giải ngân'!G14 -> 1.5325071e+09 | C19: =$B$19/($B$1-11) -> 6692170.8 | D19: =IF(A19<=$B$4,B19*$B$3/12,B19*$B$5/12) -> 8301080.2 | E19: =SUM(C19+D19) -> 14993251 | F19: GN đợt 5
A20: 13 | B20: =B19-C19 -> 1.5258149e+09 | C20: =$B$19/($B$1-11) -> 6692170.8 | D20: =IF(A20<=$B$4,B20*$B$3/12,B20*$B$5/12) -> 13732334 | E20: =SUM(C20+D20) -> 20424505
A21: 14 | B21: =B20-C20 -> 1.5191228e+09 | C21: =$B$19/($B$1-11) -> 6692170.8 | D21: =IF(A21<=$B$4,B21*$B$3/12,B21*$B$5/12) -> 13672105 | E21: =SUM(C21+D21) -> 20364276
A22: 15 | B22: =B21-C21 -> 1.5124306e+09 | C22: =$B$19/($B$1-11) -> 6692170.8 | D22: =IF(A22<=$B$4,B22*$B$3/12,B22*$B$5/12) -> 13611875 | E22: =SUM(C22+D22) -> 20304046
A23: 16 | B23: =B22-C22 -> 1.5057384e+09 | C23: =$B$19/($B$1-11) -> 6692170.8 | D23: =IF(A23<=$B$4,B23*$B$3/12,B23*$B$5/12) -> 13551646 | E23: =SUM(C23+D23) -> 20243817
A24: 17 | B24: =B23-C23 -> 1.4990463e+09 | C24: =$B$19/($B$1-11) -> 6692170.8 | D24: =IF(A24<=$B$4,B24*$B$3/12,B24*$B$5/12) -> 13491416 | E24: =SUM(C24+D24) -> 20183587
A25: 18 | B25: =B24-C24+'Tiến độ giải ngân'!G15 -> 2.0548541e+09 | C25: =$B$25/($B$1-17) -> 9214592.3 | D25: =IF(A25<=$B$4,B25*$B$3/12,B25*$B$5/12) -> 18493687 | E25: =SUM(C25+D25) -> 27708279 | F25: GN bàn giao nhà
A26: 19 | B26: =B25-C25 -> 2.0456395e+09 | C26: =$B$25/($B$1-17) -> 9214592.3 | D26: =IF(A26<=$B$4,B26*$B$3/12,B26*$B$5/12) -> 18410755 | E26: =SUM(C26+D26) -> 27625348
A27: 20 | B27: =B26-C26 -> 2.0364249e+09 | C27: =$B$25/($B$1-17) -> 9214592.3 | D27: =IF(A27<=$B$4,B27*$B$3/12,B27*$B$5/12) -> 18327824 | E27: =SUM(C27+D27) -> 27542416
A28: 21 | B28: =B27-C27 -> 2.0272103e+09 | C28: =$B$25/($B$1-17) -> 9214592.3 | D28: =IF(A28<=$B$4,B28*$B$3/12,B28*$B$5/12) -> 18244893 | E28: =SUM(C28+D28) -> 27459485
A29: 22 | B29: =B28-C28 -> 2.0179957e+09 | C29: =$B$25/($B$1-17) -> 9214592.3 | D29: =IF(A29<=$B$4,B29*$B$3/12,B29*$B$5/12) -> 18161961 | E29: =SUM(C29+D29) -> 27376554
A30: 23 | B30: =B29-C29 -> 2.0087811e+09 | C30: =$B$25/($B$1-17) -> 9214592.3 | D30: =IF(A30<=$B$4,B30*$B$3/12,B30*$B$5/12) -> 18079030 | E30: =SUM(C30+D30) -> 27293622
A31: 24 | B31: =B30-C30+'Tiến độ giải ngân'!G16 -> 2.1120665e+09 | C31: =$B$31/(B$1-23) -> 9733025.5 | D31: =IF(A31<=$B$4,B31*$B$3/12,B31*$B$5/12) -> 19008599 | E31: =SUM(C31+D31) -> 28741624 | F31: GN nhận GCN
A32: 25 | B32: =B31-C31 -> 2.1023335e+09 | C32: =$B$31/(B$1-23) -> 9733025.5 | D32: =IF(A32<=$B$4,B32*$B$3/12,B32*$B$5/12) -> 18921002 | E32: =SUM(C32+D32) -> 28654027
A33: 26 | B33: =B32-C32 -> 2.0926005e+09 | C33: =$B$31/(B$1-23) -> 9733025.5 | D33: =IF(A33<=$B$4,B33*$B$3/12,B33*$B$5/12) -> 18833404 | E33: =SUM(C33+D33) -> 28566430
A34: 27 | B34: =B33-C33 -> 2.0828675e+09 | C34: =$B$31/(B$1-23) -> 9733025.5 | D34: =IF(A34<=$B$4,B34*$B$3/12,B34*$B$5/12) -> 18745807 | E34: =SUM(C34+D34) -> 28478833
A35: 28 | B35: =B34-C34 -> 2.0731344e+09 | C35: =$B$31/(B$1-23) -> 9733025.5 | D35: =IF(A35<=$B$4,B35*$B$3/12,B35*$B$5/12) -> 18658210 | E35: =SUM(C35+D35) -> 28391235
A36: 29 | B36: =B35-C35 -> 2.0634014e+09 | C36: =$B$31/(B$1-23) -> 9733025.5 | D36: =IF(A36<=$B$4,B36*$B$3/12,B36*$B$5/12) -> 18570613 | E36: =SUM(C36+D36) -> 28303638
A37: 30 | B37: =B36-C36 -> 2.0536684e+09 | C37: =$B$31/(B$1-23) -> 9733025.5 | D37: =IF(A37<=$B$4,B37*$B$3/12,B37*$B$5/12) -> 18483015 | E37: =SUM(C37+D37) -> 28216041
A38: 31 | B38: =B37-C37 -> 2.0439353e+09 | C38: =$B$31/(B$1-23) -> 9733025.5 | D38: =IF(A38<=$B$4,B38*$B$3/12,B38*$B$5/12) -> 18395418 | E38: =SUM(C38+D38) -> 28128444
A39: 32 | B39: =B38-C38 -> 2.0342023e+09 | C39: =$B$31/(B$1-23) -> 9733025.5 | D39: =IF(A39<=$B$4,B39*$B$3/12,B39*$B$5/12) -> 18307821 | E39: =SUM(C39+D39) -> 28040846
A40: 33 | B40: =B39-C39 -> 2.0244693e+09 | C40: =$B$31/(B$1-23) -> 9733025.5 | D40: =IF(A40<=$B$4,B40*$B$3/12,B40*$B$5/12) -> 18220224 | E40: =SUM(C40+D40) -> 27953249
A41: 34 | B41: =B40-C40 -> 2.0147363e+09 | C41: =$B$31/(B$1-23) -> 9733025.5 | D41: =IF(A41<=$B$4,B41*$B$3/12,B41*$B$5/12) -> 18132626 | E41: =SUM(C41+D41) -> 27865652
...

Sheet TPB 15 năm
A1: THỜI GIAN VAY | B1: 180 | C1: THÁNG
A2: SỐ TIỀN VAY | B2: ='Tiến độ giải ngân'!G17 -> 2250000000 | C2: VND
A3: LÃI SUẤT KỲ ĐẦU | B3: 0.065
A4: THỜI GIAN ƯU ĐÃI | B4: 12 | C4: tháng
A5: LÃI SUẤT ĐIỀU CHỈNH | B5: 0.108
A7: Số kỳ | B7: Gốc giảm dần | C7: Tiền gốc tháng | D7: Tiền lãi tháng | E7: Tiền gốc+ lãi
A8: 1 | B8: ='Tiến độ giải ngân'!G10 -> 675000000 | C8: =$B$8/($B$1) -> 3750000 | D8: =IF(A8<=$B$4,B8*$B$3/12,B8*$B$5/12) -> 3656250 | E8: =SUM(C8+D8) -> 7406250 | F8: GN đầu tiên
A9: 2 | B9: =B8-C8 -> 671250000 | C9: =$B$8/($B$1) -> 3750000 | D9: =IF(A9<=$B$4,B9*$B$3/12,B9*$B$5/12) -> 3635937.5 | E9: =SUM(C9+D9) -> 7385937.5
A10: 3 | B10: =B9-C9 -> 667500000 | C10: =$B$8/($B$1) -> 3750000 | D10: =IF(A10<=$B$4,B10*$B$3/12,B10*$B$5/12) -> 3615625 | E10: =SUM(C10+D10) -> 7365625
A11: 4 | B11: =B10-C10 -> 663750000 | C11: =$B$8/($B$1) -> 3750000 | D11: =IF(A11<=$B$4,B11*$B$3/12,B11*$B$5/12) -> 3595312.5 | E11: =SUM(C11+D11) -> 7345312.5
A12: 5 | B12: =B11-C11 -> 660000000 | C12: =$B$8/($B$1) -> 3750000 | D12: =IF(A12<=$B$4,B12*$B$3/12,B12*$B$5/12) -> 3575000 | E12: =SUM(C12+D12) -> 7325000
A13: 6 | B13: =B12-C12+'Tiến độ giải ngân'!G11 -> 881250000 | C13: =$B$13/($B$1-5) -> 5035714.3 | D13: =IF(A13<=$B$4,B13*$B$3/12,B13*$B$5/12) -> 4773437.5 | E13: =SUM(C13+D13) -> 9809151.8 | F13: GN đợt 2
A14: 7 | B14: =B13-C13 -> 8.7621429e+08 | C14: =$B$14/($B$1-6) -> 5035714.3 | D14: =IF(A14<=$B$4,B14*$B$3/12,B14*$B$5/12) -> 4746160.7 | E14: =SUM(C14+D14) -> 9781875
A15: 8 | B15: =B14-C14+'Tiến độ giải ngân'!G12 -> 1.0961786e+09 | C15: =$B$15/($B$1-7) -> 6336292.3 | D15: =IF(A15<=$B$4,B15*$B$3/12,B15*$B$5/12) -> 5937633.9 | E15: =SUM(C15+D15) -> 12273926 | F15: GN đợt 3
A16: 9 | B16: =B15-C15 -> 1.0898423e+09 | C16: =$B$16/($B$1-8) -> 6336292.3 | D16: =IF(A16<=$B$4,B16*$B$3/12,B16*$B$5/12) -> 5903312.3 | E16: =SUM(C16+D16) -> 12239605
A17: 10 | B17: =B16-C16+'Tiến độ giải ngân'!G13 -> 1.308506e+09 | C17: =$B$17/($B$1-9) -> 7652081.8 | D17: =IF(A17<=$B$4,B17*$B$3/12,B17*$B$5/12) -> 7087740.8 | E17: =SUM(C17+D17) -> 14739823 | F17: GN đợt 4
A18: 11 | B18: =B17-C17 -> 1.3008539e+09 | C18: =$B$17/($B$1-9) -> 7652081.8 | D18: =IF(A18<=$B$4,B18*$B$3/12,B18*$B$5/12) -> 7046292 | E18: =SUM(C18+D18) -> 14698374
A19: 12 | B19: =B18-C18+'Tiến độ giải ngân'!G14 -> 1.5182018e+09 | C19: =$B$19/($B$1-11) -> 8983442.7 | D19: =IF(A19<=$B$4,B19*$B$3/12,B19*$B$5/12) -> 8223593.2 | E19: =SUM(C19+D19) -> 17207036 | F19: GN đợt 5
A20: 13 | B20: =B19-C19 -> 1.5092184e+09 | C20: =$B$19/($B$1-11) -> 8983442.7 | D20: =IF(A20<=$B$4,B20*$B$3/12,B20*$B$5/12) -> 13582965 | E20: =SUM(C20+D20) -> 22566408
A21: 14 | B21: =B20-C20 -> 1.5002349e+09 | C21: =$B$19/($B$1-11) -> 8983442.7 | D21: =IF(A21<=$B$4,B21*$B$3/12,B21*$B$5/12) -> 13502114 | E21: =SUM(C21+D21) -> 22485557
A22: 15 | B22: =B21-C21 -> 1.4912515e+09 | C22: =$B$19/($B$1-11) -> 8983442.7 | D22: =IF(A22<=$B$4,B22*$B$3/12,B22*$B$5/12) -> 13421263 | E22: =SUM(C22+D22) -> 22404706
A23: 16 | B23: =B22-C22 -> 1.4822681e+09 | C23: =$B$19/($B$1-11) -> 8983442.7 | D23: =IF(A23<=$B$4,B23*$B$3/12,B23*$B$5/12) -> 13340412 | E23: =SUM(C23+D23) -> 22323855
A24: 17 | B24: =B23-C23 -> 1.4732846e+09 | C24: =$B$19/($B$1-11) -> 8983442.7 | D24: =IF(A24<=$B$4,B24*$B$3/12,B24*$B$5/12) -> 13259561 | E24: =SUM(C24+D24) -> 22243004
A25: 18 | B25: =B24-C24+'Tiến độ giải ngân'!G15 -> 2.0268012e+09 | C25: =$B$25/($B$1-17) -> 12434363 | D25: =IF(A25<=$B$4,B25*$B$3/12,B25*$B$5/12) -> 18241211 | E25: =SUM(C25+D25) -> 30675573 | F25: GN bàn giao nhà
A26: 19 | B26: =B25-C25 -> 2.0143668e+09 | C26: =$B$25/($B$1-17) -> 12434363 | D26: =IF(A26<=$B$4,B26*$B$3/12,B26*$B$5/12) -> 18129301 | E26: =SUM(C26+D26) -> 30563664
A27: 20 | B27: =B26-C26 -> 2.0019324e+09 | C27: =$B$25/($B$1-17) -> 12434363 | D27: =IF(A27<=$B$4,B27*$B$3/12,B27*$B$5/12) -> 18017392 | E27: =SUM(C27+D27) -> 30451755
A28: 21 | B28: =B27-C27 -> 1.9894981e+09 | C28: =$B$25/($B$1-17) -> 12434363 | D28: =IF(A28<=$B$4,B28*$B$3/12,B28*$B$5/12) -> 17905483 | E28: =SUM(C28+D28) -> 30339846
A29: 22 | B29: =B28-C28 -> 1.9770637e+09 | C29: =$B$25/($B$1-17) -> 12434363 | D29: =IF(A29<=$B$4,B29*$B$3/12,B29*$B$5/12) -> 17793573 | E29: =SUM(C29+D29) -> 30227936
A30: 23 | B30: =B29-C29 -> 1.9646294e+09 | C30: =$B$25/($B$1-17) -> 12434363 | D30: =IF(A30<=$B$4,B30*$B$3/12,B30*$B$5/12) -> 17681664 | E30: =SUM(C30+D30) -> 30116027
A31: 24 | B31: =B30-C30+'Tiến độ giải ngân'!G16 -> 2.064695e+09 | C31: =$B$31/(B$1-23) -> 13150923 | D31: =IF(A31<=$B$4,B31*$B$3/12,B31*$B$5/12) -> 18582255 | E31: =SUM(C31+D31) -> 31733178 | F31: GN nhận GCN
A32: 25 | B32: =B31-C31 -> 2.0515441e+09 | C32: =$B$31/(B$1-23) -> 13150923 | D32: =IF(A32<=$B$4,B32*$B$3/12,B32*$B$5/12) -> 18463897 | E32: =SUM(C32+D32) -> 31614820
A33: 26 | B33: =B32-C32 -> 2.0383931e+09 | C33: =$B$31/(B$1-23) -> 13150923 | D33: =IF(A33<=$B$4,B33*$B$3/12,B33*$B$5/12) -> 18345538 | E33: =SUM(C33+D33) -> 31496462
A34: 27 | B34: =B33-C33 -> 2.0252422e+09 | C34: =$B$31/(B$1-23) -> 13150923 | D34: =IF(A34<=$B$4,B34*$B$3/12,B34*$B$5/12) -> 18227180 | E34: =SUM(C34+D34) -> 31378103
A35: 28 | B35: =B34-C34 -> 2.0120913e+09 | C35: =$B$31/(B$1-23) -> 13150923 | D35: =IF(A35<=$B$4,B35*$B$3/12,B35*$B$5/12) -> 18108822 | E35: =SUM(C35+D35) -> 31259745
A36: 29 | B36: =B35-C35 -> 1.9989404e+09 | C36: =$B$31/(B$1-23) -> 13150923 | D36: =IF(A36<=$B$4,B36*$B$3/12,B36*$B$5/12) -> 17990463 | E36: =SUM(C36+D36) -> 31141387
A37: 30 | B37: =B36-C36 -> 1.9857894e+09 | C37: =$B$31/(B$1-23) -> 13150923 | D37: =IF(A37<=$B$4,B37*$B$3/12,B37*$B$5/12) -> 17872105 | E37: =SUM(C37+D37) -> 31023029
A38: 31 | B38: =B37-C37 -> 1.9726385e+09 | C38: =$B$31/(B$1-23) -> 13150923 | D38: =IF(A38<=$B$4,B38*$B$3/12,B38*$B$5/12) -> 17753747 | E38: =SUM(C38+D38) -> 30904670
A39: 32 | B39: =B38-C38 -> 1.9594876e+09 | C39: =$B$31/(B$1-23) -> 13150923 | D39: =IF(A39<=$B$4,B39*$B$3/12,B39*$B$5/12) -> 17635388 | E39: =SUM(C39+D39) -> 30786312
A40: 33 | B40: =B39-C39 -> 1.9463367e+09 | C40: =$B$31/(B$1-23) -> 13150923 | D40: =IF(A40<=$B$4,B40*$B$3/12,B40*$B$5/12) -> 17517030 | E40: =SUM(C40+D40) -> 30667954
A41: 34 | B41: =B40-C40 -> 1.9331858e+09 | C41: =$B$31/(B$1-23) -> 13150923 | D41: =IF(A41<=$B$4,B41*$B$3/12,B41*$B$5/12) -> 17398672 | E41: =SUM(C41+D41) -> 30549595
...

Sheet TPB 10 năm
A1: THỜI GIAN VAY | B1: 120 | C1: THÁNG
A2: SỐ TIỀN VAY | B2: ='Tiến độ giải ngân'!G17 -> 2250000000 | C2: VND
A3: LÃI SUẤT KỲ ĐẦU | B3: 0.065
A4: THỜI GIAN ƯU ĐÃI | B4: 12 | C4: tháng
A5: LÃI SUẤT ĐIỀU CHỈNH | B5: 0.108
A7: Số kỳ | B7: Gốc giảm dần | C7: Tiền gốc tháng | D7: Tiền lãi tháng | E7: Tiền gốc+ lãi
A8: 1 | B8: ='Tiến độ giải ngân'!G10 -> 675000000 | C8: =$B$8/($B$1) -> 5625000 | D8: =IF(A8<=$B$4,B8*$B$3/12,B8*$B$5/12) -> 3656250 | E8: =SUM(C8+D8) -> 9281250 | F8: GN đầu tiên
A9: 2 | B9: =B8-C8 -> 669375000 | C9: =$B$8/($B$1) -> 5625000 | D9: =IF(A9<=$B$4,B9*$B$3/12,B9*$B$5/12) -> 3625781.2 | E9: =SUM(C9+D9) -> 9250781.2
A10: 3 | B10: =B9-C9 -> 663750000 | C10: =$B$8/($B$1) -> 5625000 | D10: =IF(A10<=$B$4,B10*$B$3/12,B10*$B$5/12) -> 3595312.5 | E10: =SUM(C10+D10) -> 9220312.5
A11: 4 | B11: =B10-C10 -> 658125000 | C11: =$B$8/($B$1) -> 5625000 | D11: =IF(A11<=$B$4,B11*$B$3/12,B11*$B$5/12) -> 3564843.8 | E11: =SUM(C11+D11) -> 9189843.8
A12: 5 | B12: =B11-C11 -> 652500000 | C12: =$B$8/($B$1) -> 5625000 | D12: =IF(A12<=$B$4,B12*$B$3/12,B12*$B$5/12) -> 3534375 | E12: =SUM(C12+D12) -> 9159375
A13: 6 | B13: =B12-C12+'Tiến độ giải ngân'!G11 -> 871875000 | C13: =$B$13/($B$1-5) -> 7581521.7 | D13: =IF(A13<=$B$4,B13*$B$3/12,B13*$B$5/12) -> 4722656.2 | E13: =SUM(C13+D13) -> 12304178 | F13: GN đợt 2
A14: 7 | B14: =B13-C13 -> 8.6429348e+08 | C14: =$B$14/($B$1-6) -> 7581521.7 | D14: =IF(A14<=$B$4,B14*$B$3/12,B14*$B$5/12) -> 4681589.7 | E14: =SUM(C14+D14) -> 12263111
A15: 8 | B15: =B14-C14+'Tiến độ giải ngân'!G12 -> 1.081712e+09 | C15: =$B$15/($B$1-7) -> 9572672.2 | D15: =IF(A15<=$B$4,B15*$B$3/12,B15*$B$5/12) -> 5859273.1 | E15: =SUM(C15+D15) -> 15431945 | F15: GN đợt 3
A16: 9 | B16: =B15-C15 -> 1.0721393e+09 | C16: =$B$16/($B$1-8) -> 9572672.2 | D16: =IF(A16<=$B$4,B16*$B$3/12,B16*$B$5/12) -> 5807421.1 | E16: =SUM(C16+D16) -> 15380093
A17: 10 | B17: =B16-C16+'Tiến độ giải ngân'!G13 -> 1.2875666e+09 | C17: =$B$17/($B$1-9) -> 11599699 | D17: =IF(A17<=$B$4,B17*$B$3/12,B17*$B$5/12) -> 6974319.1 | E17: =SUM(C17+D17) -> 18574018 | F17: GN đợt 4
A18: 11 | B18: =B17-C17 -> 1.2759669e+09 | C18: =$B$17/($B$1-9) -> 11599699 | D18: =IF(A18<=$B$4,B18*$B$3/12,B18*$B$5/12) -> 6911487.4 | E18: =SUM(C18+D18) -> 18511187
A19: 12 | B19: =B18-C18+'Tiến độ giải ngân'!G14 -> 1.4893672e+09 | C19: =$B$19/($B$1-11) -> 13663919 | D19: =IF(A19<=$B$4,B19*$B$3/12,B19*$B$5/12) -> 8067405.7 | E19: =SUM(C19+D19) -> 21731325 | F19: GN đợt 5
A20: 13 | B20: =B19-C19 -> 1.4757033e+09 | C20: =$B$19/($B$1-11) -> 13663919 | D20: =IF(A20<=$B$4,B20*$B$3/12,B20*$B$5/12) -> 13281330 | E20: =SUM(C20+D20) -> 26945249
A21: 14 | B21: =B20-C20 -> 1.4620394e+09 | C21: =$B$19/($B$1-11) -> 13663919 | D21: =IF(A21<=$B$4,B21*$B$3/12,B21*$B$5/12) -> 13158354 | E21: =SUM(C21+D21) -> 26822274
A22: 15 | B22: =B21-C21 -> 1.4483755e+09 | C22: =$B$19/($B$1-11) -> 13663919 | D22: =IF(A22<=$B$4,B22*$B$3/12,B22*$B$5/12) -> 13035379 | E22: =SUM(C22+D22) -> 26699298
A23: 16 | B23: =B22-C22 -> 1.4347115e+09 | C23: =$B$19/($B$1-11) -> 13663919 | D23: =IF(A23<=$B$4,B23*$B$3/12,B23*$B$5/12) -> 12912404 | E23: =SUM(C23+D23) -> 26576323
A24: 17 | B24: =B23-C23 -> 1.4210476e+09 | C24: =$B$19/($B$1-11) -> 13663919 | D24: =IF(A24<=$B$4,B24*$B$3/12,B24*$B$5/12) -> 12789429 | E24: =SUM(C24+D24) -> 26453348
A25: 18 | B25: =B24-C24+'Tiến độ giải ngân'!G15 -> 1.9698837e+09 | C25: =$B$25/($B$1-17) -> 19125084 | D25: =IF(A25<=$B$4,B25*$B$3/12,B25*$B$5/12) -> 17728953 | E25: =SUM(C25+D25) -> 36854038 | F25: GN bàn giao nhà
A26: 19 | B26: =B25-C25 -> 1.9507586e+09 | C26: =$B$25/($B$1-17) -> 19125084 | D26: =IF(A26<=$B$4,B26*$B$3/12,B26*$B$5/12) -> 17556828 | E26: =SUM(C26+D26) -> 36681912
A27: 20 | B27: =B26-C26 -> 1.9316335e+09 | C27: =$B$25/($B$1-17) -> 19125084 | D27: =IF(A27<=$B$4,B27*$B$3/12,B27*$B$5/12) -> 17384702 | E27: =SUM(C27+D27) -> 36509786
A28: 21 | B28: =B27-C27 -> 1.9125084e+09 | C28: =$B$25/($B$1-17) -> 19125084 | D28: =IF(A28<=$B$4,B28*$B$3/12,B28*$B$5/12) -> 17212576 | E28: =SUM(C28+D28) -> 36337660
A29: 22 | B29: =B28-C28 -> 1.8933834e+09 | C29: =$B$25/($B$1-17) -> 19125084 | D29: =IF(A29<=$B$4,B29*$B$3/12,B29*$B$5/12) -> 17040450 | E29: =SUM(C29+D29) -> 36165535
A30: 23 | B30: =B29-C29 -> 1.8742583e+09 | C30: =$B$25/($B$1-17) -> 19125084 | D30: =IF(A30<=$B$4,B30*$B$3/12,B30*$B$5/12) -> 16868324 | E30: =SUM(C30+D30) -> 35993409
A31: 24 | B31: =B30-C30+'Tiến độ giải ngân'!G16 -> 1.9676332e+09 | C31: =$B$31/(B$1-23) -> 20284878 | D31: =IF(A31<=$B$4,B31*$B$3/12,B31*$B$5/12) -> 17708699 | E31: =SUM(C31+D31) -> 37993577 | F31: GN nhận GCN
A32: 25 | B32: =B31-C31 -> 1.9473483e+09 | C32: =$B$31/(B$1-23) -> 20284878 | D32: =IF(A32<=$B$4,B32*$B$3/12,B32*$B$5/12) -> 17526135 | E32: =SUM(C32+D32) -> 37811013
A33: 26 | B33: =B32-C32 -> 1.9270634e+09 | C33: =$B$31/(B$1-23) -> 20284878 | D33: =IF(A33<=$B$4,B33*$B$3/12,B33*$B$5/12) -> 17343571 | E33: =SUM(C33+D33) -> 37628449
A34: 27 | B34: =B33-C33 -> 1.9067786e+09 | C34: =$B$31/(B$1-23) -> 20284878 | D34: =IF(A34<=$B$4,B34*$B$3/12,B34*$B$5/12) -> 17161007 | E34: =SUM(C34+D34) -> 37445885
A35: 28 | B35: =B34-C34 -> 1.8864937e+09 | C35: =$B$31/(B$1-23) -> 20284878 | D35: =IF(A35<=$B$4,B35*$B$3/12,B35*$B$5/12) -> 16978443 | E35: =SUM(C35+D35) -> 37263321
A36: 29 | B36: =B35-C35 -> 1.8662088e+09 | C36: =$B$31/(B$1-23) -> 20284878 | D36: =IF(A36<=$B$4,B36*$B$3/12,B36*$B$5/12) -> 16795879 | E36: =SUM(C36+D36) -> 37080757
A37: 30 | B37: =B36-C36 -> 1.8459239e+09 | C37: =$B$31/(B$1-23) -> 20284878 | D37: =IF(A37<=$B$4,B37*$B$3/12,B37*$B$5/12) -> 16613315 | E37: =SUM(C37+D37) -> 36898194
A38: 31 | B38: =B37-C37 -> 1.825639e+09 | C38: =$B$31/(B$1-23) -> 20284878 | D38: =IF(A38<=$B$4,B38*$B$3/12,B38*$B$5/12) -> 16430751 | E38: =SUM(C38+D38) -> 36715630
A39: 32 | B39: =B38-C38 -> 1.8053542e+09 | C39: =$B$31/(B$1-23) -> 20284878 | D39: =IF(A39<=$B$4,B39*$B$3/12,B39*$B$5/12) -> 16248187 | E39: =SUM(C39+D39) -> 36533066
A40: 33 | B40: =B39-C39 -> 1.7850693e+09 | C40: =$B$31/(B$1-23) -> 20284878 | D40: =IF(A40<=$B$4,B40*$B$3/12,B40*$B$5/12) -> 16065624 | E40: =SUM(C40+D40) -> 36350502
A41: 34 | B41: =B40-C40 -> 1.7647844e+09 | C41: =$B$31/(B$1-23) -> 20284878 | D41: =IF(A41<=$B$4,B41*$B$3/12,B41*$B$5/12) -> 15883060 | E41: =SUM(C41+D41) -> 36167938
...
